BEGIN:VCALENDAR
VERSION:2.0
PRODID:-//ChamberMaster//Event Calendar 2.0//EN
METHOD:PUBLISH
X-PUBLISHED-TTL:P3D
REFRESH-INTERVAL:P3D
CALSCALE:GREGORIAN
BEGIN:VEVENT
DTSTART:20240209T123000Z
DTEND:20240209T140000Z
X-MICROSOFT-CDO-ALLDAYEVENT:FALSE
SUMMARY:Wood Floral Arrangement Workshop
DESCRIPTION:Join us for an evening of floral arranging fun! Bring your bestie and build a bouquet that lasts!\n\nClass Includes:\n\n\n	Wood Florals & Vase \n	Arrangement Tips & Guidance\n	Complimentary Sweets\n	BYOB
X-ALT-DESC;FMTTYPE=text/html:<p><strong>Join us for an evening of floral arranging fun!&nbsp\;</strong>Bring your bestie and build a bouquet that lasts!</p>\n\n<p><strong>Class Includes:</strong></p>\n\n<ul>\n	<li>Wood Florals &amp\; Vase&nbsp\;</li>\n	<li>Arrangement Tips &amp\; Guidance</li>\n	<li>Complimentary Sweets</li>\n	<li>BYOB</li>\n</ul>\n
LOCATION:Your CBD Store Southlake 2354 E State Hwy 114 Southlake\, TX 76092
UID:e.770.198304
SEQUENCE:3
DTSTAMP:20260424T130318Z
URL:https://business.grapevinechamber.org/events/details/wood-floral-arrangement-workshop-198304
END:VEVENT

END:VCALENDAR
