BEGIN:VCALENDAR
VERSION:2.0
PRODID:-//ChamberMaster//Event Calendar 2.0//EN
METHOD:PUBLISH
X-PUBLISHED-TTL:P3D
REFRESH-INTERVAL:P3D
CALSCALE:GREGORIAN
BEGIN:VEVENT
DTSTART:20121018T223000Z
DTEND:20121019T013000Z
X-MICROSOFT-CDO-ALLDAYEVENT:FALSE
SUMMARY:Women's Health Fair
DESCRIPTION:Join us for an evening of fun at our Women's Health Fair. This event is benefiting Journey Learning Center\, a non-profit 501(c)3 that provides a multi-disciplinary approach for children with Autism Spectrum Disorder.
X-ALT-DESC;FMTTYPE=text/html:<p>\n	Join us for an evening of fun at our Women&#39\;s Health Fair. This event is benefiting Journey Learning Center\, a non-profit 501(c)3 that provides a multi-disciplinary approach for children with Autism Spectrum Disorder.</p>\n
LOCATION:Park West Chiropractic & Wellness Center 2750 William D. Tate Avenue Suite 200 Grapevine\, TX 76051
UID:e.770.163054
SEQUENCE:3
DTSTAMP:20260422T110807Z
URL:https://business.grapevinechamber.org/events/details/women-s-health-fair-10-18-2012-163054
END:VEVENT

END:VCALENDAR
