BEGIN:VCALENDAR
VERSION:2.0
PRODID:-//ChamberMaster//Event Calendar 2.0//EN
METHOD:PUBLISH
X-PUBLISHED-TTL:P3D
REFRESH-INTERVAL:P3D
CALSCALE:GREGORIAN
BEGIN:VEVENT
DTSTART:20230810T230000Z
DTEND:20230811T020000Z
X-MICROSOFT-CDO-ALLDAYEVENT:FALSE
SUMMARY:Women's Division Wine Dinner Fundraiser
DESCRIPTION:Presenting Sponsor: \n\n$100 inclusive per person\n\nDoor prizes and raffles\n\n\n\nProceeds benefit the Women's Division School Supply and Christmas Spirit Programs\n \nSPONSORSHIPS\nRaffle Sponsor- $500\n\n\n	2 Tickets to Great Taste 2024\n	Recognition on Menu/Program\n	Social Media Recognition\n	Name/Business Announced at Time of Raffle Pull\n	Intimate Focused Audience of 60 people\n\nDoor Prize Sponsor- $200\n\n\n	Recognition on Menu/ Program\n	Group Social Media Recognition\n	Intimate Focused Audience of 60 people\n\n\n\nMENU\nFIRST COURSE\n\nBACON WRAPPED QUAIL\n\nLucien Albrecht\, Sparkling Rose\n\n\n\nSECOND COURSE\n\nWATERMELON BEET SALAD WITH LEMON VINAIGRETTE\n\nFrank Family Chardonnay \, Napa Valley 2021\n\n\n\nTHIRD COURSE\n\nWAGYU NEW YORK STRIP & POACHED SEABASS WITH PARMESAN CHEESE RISOTTO\n\nFrank Family Cabernet\, Napa Valley 2019\n\n\n\nFOURTH COURSE\n\nBUTTERSCOTCH BUDINO\n\nLong Shadows Riesling Poet Leap 2021\n\n\n\n* Please list any dietary requirements in the registration comments.
X-ALT-DESC;FMTTYPE=text/html:Presenting Sponsor:&nbsp\;<br />\n$100 inclusive per person<br />\nDoor prizes and raffles<br />\n<br />\nProceeds benefit the Women&#39\;s Division School Supply and Christmas Spirit Programs\n<hr />&nbsp\;\n<div style="text-align: center\;"><strong>SPONSORSHIPS</strong></div>\n<em><strong>Raffle Sponsor- $500</strong></em>\n\n<ul>\n	<li>2 Tickets to Great Taste 2024</li>\n	<li>Recognition on Menu/Program</li>\n	<li>Social Media Recognition</li>\n	<li>Name/Business Announced at Time of Raffle Pull</li>\n	<li>Intimate Focused Audience of 60 people</li>\n</ul>\n<em><strong>Door Prize Sponsor- $200</strong></em>\n\n<ul>\n	<li>Recognition on Menu/ Program</li>\n	<li>Group Social Media Recognition</li>\n	<li>Intimate Focused Audience of 60 people</li>\n</ul>\n\n<hr />\n<div style="text-align: center\;"><strong>MENU</strong></div>\n<u><strong>FIRST COURSE</strong></u><br />\nBACON WRAPPED QUAIL<br />\nLucien Albrecht\, Sparkling Rose<br />\n<br />\n<u><strong>SECOND COURSE</strong></u><br />\nWATERMELON BEET SALAD WITH LEMON VINAIGRETTE<br />\nFrank Family Chardonnay \, Napa Valley 2021<br />\n<br />\n<u><strong>THIRD COURSE</strong></u><br />\nWAGYU NEW YORK STRIP &amp\; POACHED SEABASS WITH PARMESAN CHEESE RISOTTO<br />\nFrank Family Cabernet\, Napa Valley 2019<br />\n<br />\n<u><strong>FOURTH COURSE</strong></u><br />\nBUTTERSCOTCH BUDINO<br />\nLong Shadows Riesling Poet Leap 2021<br />\n<br />\n<em>* Please list any dietary requirements in the registration comments.</em><br />\n<br />\n&nbsp\;
LOCATION:Winewood Grill 1265 S. Main St. Grapevine\, TX 76051
UID:e.770.197234
SEQUENCE:3
DTSTAMP:20260425T000200Z
URL:https://business.grapevinechamber.org/events/details/women-s-division-wine-dinner-fundraiser-197234
END:VEVENT

END:VCALENDAR
