BEGIN:VCALENDAR
VERSION:2.0
PRODID:-//ChamberMaster//Event Calendar 2.0//EN
METHOD:PUBLISH
X-PUBLISHED-TTL:P3D
REFRESH-INTERVAL:P3D
CALSCALE:GREGORIAN
BEGIN:VEVENT
DTSTART:20120918T163000Z
DTEND:20120918T180000Z
X-MICROSOFT-CDO-ALLDAYEVENT:FALSE
SUMMARY:Women's Division Luncheon
DESCRIPTION:The Grapevine Chamber of Commerce Women's Division holds a monthly luncheon to provide a program of interest to their membership\, along with updates on their civic projects which include annual school supply drive\, SeniorFest dance\, Holiday Charity Ball\, Christmas Spirit project and several other events.
X-ALT-DESC;FMTTYPE=text/html:The Grapevine Chamber of Commerce Women&#39\;s Division holds a monthly luncheon to provide a program of interest to their membership\, along with updates on their civic projects which include annual school supply drive\, SeniorFest dance\, Holiday Charity Ball\, Christmas Spirit project and several other events.
LOCATION:Stacy Furniture 1900 S. Main Street Grapevine\, TX 76051 (817) 424-8800
UID:e.770.162956
SEQUENCE:3
DTSTAMP:20260422T094154Z
URL:https://business.grapevinechamber.org/events/details/women-s-division-luncheon-09-18-2012-162956
END:VEVENT

END:VCALENDAR
