BEGIN:VCALENDAR
VERSION:2.0
PRODID:-//ChamberMaster//Event Calendar 2.0//EN
METHOD:PUBLISH
X-PUBLISHED-TTL:P3D
REFRESH-INTERVAL:P3D
CALSCALE:GREGORIAN
BEGIN:VEVENT
DTSTART:20160719T164500Z
DTEND:20160719T183000Z
X-MICROSOFT-CDO-ALLDAYEVENT:FALSE
SUMMARY:Women's Division Luncheon
DESCRIPTION:Online Registration is NOW CLOSED\n\n\n\nThe Grapevine Chamber of Commerce Women's Division holds a monthly luncheon to provide a program of interest to their membership\, along with updates on their civic projects which include annual school supply drive\, Christmas Spirit project and several other events.
X-ALT-DESC;FMTTYPE=text/html:<span style="color:#FF0000\;"><strong>Online Registration is NOW CLOSED</strong></span><br />\n<br />\nThe Grapevine Chamber of Commerce Women&#39\;s Division holds a monthly luncheon to provide a program of interest to their membership\, along with updates on their civic projects which include annual school supply drive\, Christmas Spirit project and several other events.
LOCATION:Messina Hof Grapevine Winery 201 S. Main St. Grapevine\, TX 76051
UID:e.770.172210
SEQUENCE:3
DTSTAMP:20260422T105314Z
URL:https://business.grapevinechamber.org/events/details/women-s-division-luncheon-07-19-2016-172210
END:VEVENT

END:VCALENDAR
