BEGIN:VCALENDAR
VERSION:2.0
PRODID:-//ChamberMaster//Event Calendar 2.0//EN
METHOD:PUBLISH
X-PUBLISHED-TTL:P3D
REFRESH-INTERVAL:P3D
CALSCALE:GREGORIAN
BEGIN:VEVENT
DTSTART:20250408T164500Z
DTEND:20250408T180000Z
X-MICROSOFT-CDO-ALLDAYEVENT:FALSE
SUMMARY:Women's Division Luncheon
DESCRIPTION:The Grapevine Chamber of Commerce Women's Division holds a monthly luncheon to provide a program of interest to their membership\, along with updates on their civic projects which include annual school supply drive\, Christmas Spirit project and several other events.\n\n\n\nProgram: Bianca Schiffman- Color Analysis Expert\n\nSponsor: Dell Travel Adventures\n\nCaterer: Aspen Catering
X-ALT-DESC;FMTTYPE=text/html:<br />\nThe Grapevine Chamber of Commerce Women&#39\;s Division holds a monthly luncheon to provide a program of interest to their membership\, along with updates on their civic projects which include annual school supply drive\, Christmas Spirit project and several other events.<br />\n<br />\n<strong>Program: Bianca Schiffman- Color Analysis Expert<br />\nSponsor: Dell Travel Adventures<br />\n<span background-color:="" font-size:="" style="color: rgb(51\, 51\, 51)\; font-family: sans-serif\, Arial\, Verdana\, " trebuchet="">Caterer: Aspen Catering</span></strong>
LOCATION:Gary and Cynthia Blankenship Business Center 200 Vine St. E Grapevine\, TX 76051
UID:e.770.199550
SEQUENCE:3
DTSTAMP:20260426T033250Z
URL:https://business.grapevinechamber.org/events/details/women-s-division-luncheon-04-08-2025-199550
END:VEVENT

END:VCALENDAR
