BEGIN:VCALENDAR
VERSION:2.0
PRODID:-//ChamberMaster//Event Calendar 2.0//EN
METHOD:PUBLISH
X-PUBLISHED-TTL:P3D
REFRESH-INTERVAL:P3D
CALSCALE:GREGORIAN
BEGIN:VEVENT
DTSTART:20130319T163000Z
DTEND:20130319T180000Z
X-MICROSOFT-CDO-ALLDAYEVENT:FALSE
SUMMARY:Women's Division Luncheon
DESCRIPTION:The Grapevine Chamber of Commerce Women's Division holds a monthly luncheon to provide a program of interest to their membership\, along with updates on their civic projects which include annual school supply drive\, SeniorFest dance\, Holiday Charity Ball\, Christmas Spirit project and several other events.
X-ALT-DESC;FMTTYPE=text/html:The Grapevine Chamber of Commerce Women&#39\;s Division holds a monthly luncheon to provide a program of interest to their membership\, along with updates on their civic projects which include annual school supply drive\, SeniorFest dance\, Holiday Charity Ball\, Christmas Spirit project and several other events.
LOCATION:Stacy Furniture 1900 S. Main Street Grapevine\, TX 76051 (817) 424-8800
UID:e.770.163174
SEQUENCE:3
DTSTAMP:20260421T174844Z
URL:https://business.grapevinechamber.org/events/details/women-s-division-luncheon-03-19-2013-163174
END:VEVENT

END:VCALENDAR
