BEGIN:VCALENDAR
VERSION:2.0
PRODID:-//ChamberMaster//Event Calendar 2.0//EN
METHOD:PUBLISH
X-PUBLISHED-TTL:P3D
REFRESH-INTERVAL:P3D
CALSCALE:GREGORIAN
BEGIN:VEVENT
DTSTART:20130219T173000Z
DTEND:20130219T190000Z
X-MICROSOFT-CDO-ALLDAYEVENT:FALSE
SUMMARY:Women's Division Luncheon
DESCRIPTION:The Grapevine Chamber of Commerce Women's Division holds a monthly luncheon to provide a program of interest to their membership\, along with updates on their civic projects which include annual school supply drive\, SeniorFest dance\, Holiday Charity Ball\, Christmas Spirit project and several other events.\n\n\n\n2013 Membership Social - Please RSVP to Casey Hege by Friday\, Feb. 15 casey@boxinsurance.com or text (682) 551-6824
X-ALT-DESC;FMTTYPE=text/html:The Grapevine Chamber of Commerce Women&#39\;s Division holds a monthly luncheon to provide a program of interest to their membership\, along with updates on their civic projects which include annual school supply drive\, SeniorFest dance\, Holiday Charity Ball\, Christmas Spirit project and several other events.<br />\n<br />\n2013 Membership Social - Please RSVP to Casey Hege by Friday\, Feb. 15 casey@boxinsurance.com or text (682) 551-6824
LOCATION:Grand Hall Grapevine CVB
UID:e.770.163173
SEQUENCE:3
DTSTAMP:20260421T194305Z
URL:https://business.grapevinechamber.org/events/details/women-s-division-luncheon-02-19-2013-163173
END:VEVENT

END:VCALENDAR
