BEGIN:VCALENDAR
VERSION:2.0
PRODID:-//ChamberMaster//Event Calendar 2.0//EN
METHOD:PUBLISH
X-PUBLISHED-TTL:P3D
REFRESH-INTERVAL:P3D
CALSCALE:GREGORIAN
BEGIN:VEVENT
DTSTART:20121221T000000Z
DTEND:20121221T040000Z
X-MICROSOFT-CDO-ALLDAYEVENT:FALSE
SUMMARY:Women's Division: Holiday Charity Event HoHoHoedown
DESCRIPTION:ONLINE REGISTRATION NOW CLOSED. TICKETS AVAILABLE AT THE DOOR!\n\n	\n\n	It is going to be a Ho Ho Hoedown kind of Christmas\, y'all! Join The Women's Division of the Grapevine Chamber of Commerce on Thursday\, December 20th at Willhoite's (which will be closed to the public with no smoking!) We are going to have a boot scootin good time while we raise money for school supplies for GCISD students and our Grapevine Senior Citizen Christmas Spirit Fund! We need your help to refill our coffers---- we delivered over 900 school supply packs in August!\n\n	\n\n	We will have a Grand Prize raffle\, Boot Raffles\, and more! The band Aspen Creek will play for us again\, and you must wear your Merriest Cowboy or Girl Attire! Check with your Women's Division friends to purchase tickets. The tickets are $45 apiece which gets you a meal and a non-alcoholic beverage! There are plenty of sponsorships available.\n\n	\n\n	Check with Shelley Ruddick if you are interested in sponsoring the event at sruddick@bnkwest.com\n\n	\n\n	Grand Prize Raffle: "Luxurious Grapevine Experience"\n\n	\n		\n			Turquoise Ring with Diamonds set in Yellow Gold and Silver donated by Bermuda Gold & Silver\n	\n	\n		\n			$200 Gift Card for dinner at Bob's Steak & Chop House\n	\n	\n		\n			Two Nights at the Gaylord Texan (includes Breakfast each morning)\n	\n	\n		\n			TOTAL VALUE $1600\n	\n\n\n	You do NOT have to present at the HoHoHoeDown event to win.
X-ALT-DESC;FMTTYPE=text/html:<p>\n	<span style="font-size:14px\;"><span style="font-family: arial\;"><span style="font-size:16px\;"><strong>ONLINE REGISTRATION NOW CLOSED. TICKETS AVAILABLE AT THE DOOR!</strong></span><br />\n	<br />\n	It is going to be a Ho Ho Hoedown kind of Christmas\, y&rsquo\;all! Join The Women&rsquo\;s Division of the Grapevine Chamber of Commerce on Thursday\, December 20th at Willhoite&rsquo\;s (which will be closed to the public with no smoking!) We are going to have a boot scootin good time while we raise money for school supplies for GCISD students and our Grapevine Senior Citizen Christmas Spirit Fund! We need your help to refill our coffers---- we delivered over 900 school supply packs in August!</span></span></p>\n<p>\n	<br />\n	<span style="font-size:14px\;"><span style="font-family: arial\;">We will have a Grand Prize raffle\, Boot Raffles\, and more! The band Aspen Creek will play for us again\, and you must wear your Merriest Cowboy or Girl Attire! Check with your Women&rsquo\;s Division friends to purchase tickets. The tickets are $45 apiece which gets you a meal and a non-alcoholic beverage! There are plenty of sponsorships available.<br />\n	<br />\n	Check with Shelley Ruddick if you are interested in sponsoring the event at sruddick@bnkwest.com<br />\n	<br />\n	<strong>Grand Prize Raffle: &quot\;Luxurious Grapevine Experience&quot\;</strong></span></span></p>\n<ul>\n	<li>\n		<p>\n			<span style="font-size:14px\;"><span style="font-family: arial\;">Turquoise Ring with Diamonds set in Yellow Gold and Silver donated by Bermuda Gold &amp\; Silver</span></span></p>\n	</li>\n	<li>\n		<p>\n			<span style="font-size:14px\;"><span style="font-family: arial\;">$200 Gift Card for dinner at Bob&#39\;s Steak &amp\; Chop House</span></span></p>\n	</li>\n	<li>\n		<p>\n			<span style="font-size:14px\;"><span style="font-family: arial\;">Two Nights at the Gaylord Texan (includes Breakfast each morning)</span></span></p>\n	</li>\n	<li>\n		<p>\n			<span style="font-size:14px\;"><span style="font-family: arial\;">TOTAL VALUE $1600</span></span></p>\n	</li>\n</ul>\n<p>\n	<span style="font-size:14px\;"><span style="font-family: arial\;"><u><em><strong>You do NOT have to present at the HoHoHoeDown event to win.</strong></em></u></span></span></p>\n
LOCATION:Willhoite's Restaurant
UID:e.770.162760
SEQUENCE:3
DTSTAMP:20260423T152543Z
URL:https://business.grapevinechamber.org/events/details/women-s-division-holiday-charity-event-hohohoedown-12-20-2012-162760
END:VEVENT

END:VCALENDAR
