BEGIN:VCALENDAR
VERSION:2.0
PRODID:-//ChamberMaster//Event Calendar 2.0//EN
METHOD:PUBLISH
X-PUBLISHED-TTL:P3D
REFRESH-INTERVAL:P3D
CALSCALE:GREGORIAN
BEGIN:VEVENT
DTSTART:20250426T150000Z
DTEND:20250426T180000Z
X-MICROSOFT-CDO-ALLDAYEVENT:FALSE
SUMMARY:Women's Car Maintenance Workshop
DESCRIPTION:Vine House Real Estate Group is hosting a Women's Car Maintenance Workshop\, led by car expert Emily Reeves from Flying Sparks Garage. She will teach attendees a few basic car maintenance items and answer your questions too! We will have complimentary donuts and coffee\, giveaways and lots of fun!
X-ALT-DESC;FMTTYPE=text/html:Vine House Real Estate Group is hosting a Women&#39\;s Car Maintenance Workshop\, led by car expert Emily Reeves from Flying Sparks Garage. She will teach attendees a few basic car maintenance items and answer your questions too! We will have complimentary donuts and coffee\, giveaways and lots of fun!
LOCATION:129 S. Main Street
UID:e.770.201207
SEQUENCE:3
DTSTAMP:20260426T033132Z
URL:https://business.grapevinechamber.org/events/details/women-s-car-maintenance-workshop-201207
END:VEVENT

END:VCALENDAR
