BEGIN:VCALENDAR
VERSION:2.0
PRODID:-//ChamberMaster//Event Calendar 2.0//EN
METHOD:PUBLISH
X-PUBLISHED-TTL:P3D
REFRESH-INTERVAL:P3D
CALSCALE:GREGORIAN
BEGIN:VEVENT
DTSTART:20230923T150000Z
DTEND:20230923T200000Z
X-MICROSOFT-CDO-ALLDAYEVENT:FALSE
SUMMARY:Wine & Dine at Grapevine with Moon Valley Nurseries
DESCRIPTION:Moon Valley Nurseries is going to be hosting a Wine & Dine event this Saturday\, September 23\, 2023. The event will be held from 10am-3pm. We will be raffling off a free tree! Grapevine Springs Winery will be supplying us with a wide selection of their favorite wines! Don't worry\, we will also have sparkling grape juice for those who can not indulge. Snacks will be provided to enjoy as you walk around the nursery. We will be offering free design consultations with our landscape design professionals! We hope to see you out there!
X-ALT-DESC;FMTTYPE=text/html:<span style="font-size:18px"><span style="font-family:comic sans ms">Moon Valley Nurseries is going to be hosting a Wine &amp\; Dine event this Saturday\, September 23\, 2023. The event will be held from 10am-3pm. We will be raffling off a free tree! Grapevine Springs Winery will be supplying us with a wide selection of their favorite wines! Don&#39\;t worry\, we will also have sparkling grape juice for those who can not indulge. Snacks will be provided to enjoy as you walk around the nursery. We will be offering free design consultations with our landscape design professionals! We hope to see you out there!&nbsp\;</span></span>
LOCATION:
UID:e.770.197567
SEQUENCE:3
DTSTAMP:20260424T202217Z
URL:https://business.grapevinechamber.org/events/details/wine-dine-at-grapevine-with-moon-valley-nurseries-197567
END:VEVENT

END:VCALENDAR
