BEGIN:VCALENDAR
VERSION:2.0
PRODID:-//ChamberMaster//Event Calendar 2.0//EN
METHOD:PUBLISH
X-PUBLISHED-TTL:P3D
REFRESH-INTERVAL:P3D
CALSCALE:GREGORIAN
BEGIN:VEVENT
DTSTART:20121114T003000Z
DTEND:20121114T013000Z
X-MICROSOFT-CDO-ALLDAYEVENT:FALSE
SUMMARY:Win The New iPad Mini At Our How To Shop For Lasik Event!
DESCRIPTION:Shopping for LASIK? Want a chance to win the NEW iPad Mini? Attend How To Shop For LASIK\, at our Grapevine office\, November 13\, 6:30-7:30 PM. Since it's almost gift-giving season\, if you have to depend on glasses or contacts\, LASIK can be one of the best gifts you can give yourself. In just 60 minutes\, one of our expert doctors will give you the honest scoop in simple-speak   what the procedure is like\, costs\, financing\, generally what to expect\, and if you're a candidate for LASIK. Just for attending\, you can register to win a cool new iPad Mini we'll give away that night!\n\n\n\nThat's right\, this is the brand new iPad that just came out\, and sure to be the hottest ticket this holiday season. The new iPad Mini is so new\, it may still be on order as of the date of this event. If you win\, we'll notify you immediately upon its arrival. You must be 18 years or older to attend\, and must be present to win. Please join us for this informative\, fun event in the comfort of our beautiful Grapevine offices. Call today to reserve your space!
X-ALT-DESC;FMTTYPE=text/html:Shopping for LASIK? Want a chance to win the NEW iPad Mini? Attend <em>How To Shop For LASIK</em>\, at our Grapevine office\, November 13\, 6:30-7:30 PM. Since it&rsquo\;s almost gift-giving season\, if you have to depend on glasses or contacts\, LASIK can be one of the best gifts you can give yourself. In just 60 minutes\, one of our expert doctors will give you the honest scoop in simple-speak &ndash\; what the procedure is like\, costs\, financing\, generally what to expect\, and if you&rsquo\;re a candidate for LASIK. Just for attending\, you can register to win a cool new iPad Mini we&#39\;ll give away that night!<br />\n<br />\nThat&rsquo\;s right\, this is the brand new iPad that just came out\, and sure to be the hottest ticket this holiday season. The new iPad Mini is so new\, it may still be on order as of the date of this event. If you win\, we&rsquo\;ll notify you immediately upon its arrival. You must be 18 years or older to attend\, and must be present to win. Please join us for this informative\, fun event in the comfort of our beautiful Grapevine offices. Call today to reserve your space!<br />\n
LOCATION:Eye Consultants of Texas 2201 Westgate Plaza Grapevine\, TX 76051
UID:e.770.163080
SEQUENCE:3
DTSTAMP:20260420T110225Z
URL:https://business.grapevinechamber.org/events/details/win-the-new-ipad-mini-at-our-how-to-shop-for-lasik-event-11-13-2012-163080
END:VEVENT

END:VCALENDAR
