BEGIN:VCALENDAR
VERSION:2.0
PRODID:-//ChamberMaster//Event Calendar 2.0//EN
METHOD:PUBLISH
X-PUBLISHED-TTL:P3D
REFRESH-INTERVAL:P3D
CALSCALE:GREGORIAN
BEGIN:VEVENT
DTSTART:20121013T000000Z
DTEND:20121013T030500Z
X-MICROSOFT-CDO-ALLDAYEVENT:FALSE
SUMMARY:Where Angels Go - Benefitting the DFW Recue Me organization
DESCRIPTION:We will be painting "Where Angels Go" at  Art in the Vine as a fundraiser for DFW Rescue Me\, a non-profit organization that helps care for and rehabilitate abandoned and abused animals.  If you have\, or have had a pet\, you likely wonder how someone can hurt an animal let alone abandon them.   50% of the class fee will be donated to DFW Rescue Me at the end of the class.\,  Join us - saving pets one painting at a time.
X-ALT-DESC;FMTTYPE=text/html:<p>\n	We will be painting &quot\;Where Angels Go&quot\; at &nbsp\;Art in the Vine as&nbsp\;a fundraiser for<em><strong> DFW Rescue Me</strong></em>\, a non-profit organization that helps care for and rehabilitate abandoned and abused animals.&nbsp\; If you have\, or have had a&nbsp\;pet\, you likely wonder how someone can hurt an animal let alone abandon them.&nbsp\;&nbsp\; 50% of the class fee will be donated to DFW Rescue&nbsp\;Me at the end of the class.\,&nbsp\; Join us - saving&nbsp\;pets one painting at a time.&nbsp\;&nbsp\;&nbsp\;&nbsp\;&nbsp\;&nbsp\;</p>\n
LOCATION:Art in the Vine 441 E. Northwest Hwy.\, Grapevine\, TX 76051
UID:e.770.163029
SEQUENCE:3
DTSTAMP:20260422T110817Z
URL:https://business.grapevinechamber.org/events/details/where-angels-go-benefitting-the-dfw-recue-me-organization-10-12-2012-163029
END:VEVENT

END:VCALENDAR
