BEGIN:VCALENDAR
VERSION:2.0
PRODID:-//ChamberMaster//Event Calendar 2.0//EN
METHOD:PUBLISH
X-PUBLISHED-TTL:P3D
REFRESH-INTERVAL:P3D
CALSCALE:GREGORIAN
BEGIN:VEVENT
DTSTART:20230926T220000Z
DTEND:20230926T223000Z
X-MICROSOFT-CDO-ALLDAYEVENT:FALSE
SUMMARY:Where 2 Next: Cruise Planners and Celebrity Cruises
DESCRIPTION:Ready to stroll among the giant tortoises and play along with penguins in their native home of the Galapagos? Learn about this bucket-list cruise vacation from travel experts during this virtual event hosted by Cruise Planners & Celebrity Cruises. \n\nA Cruise Planners  Exclusive booking offer will be revealed during the event!\n\nAnd a chance to win Prize Giveaways!
X-ALT-DESC;FMTTYPE=text/html:<p style="text-align:center"><span style="font-size:18px">Ready to stroll among the giant tortoises and play along with penguins in their native home of the Galapagos? Learn about this bucket-list cruise vacation from travel experts during this virtual event hosted by Cruise Planners &amp\; Celebrity Cruises. </span></p>\n\n<p style="text-align:center"><span style="font-family:arial\,helvetica\,sans-serif\; font-size:18px"><strong>A Cruise Planners<sup>&reg\;</sup> Exclusive booking offer will be revealed during the event!</strong></span></p>\n\n<p style="text-align:center"><span style="font-family:arial\,helvetica\,sans-serif\; font-size:18px"><strong>And a chance to win Prize Giveaways!</strong></span></p>\n
LOCATION:Virtual Event - Register now! https://www.globaltravitude.com/event/UsoD6UdUyW/8646279
UID:e.770.197559
SEQUENCE:3
DTSTAMP:20260424T202323Z
URL:https://business.grapevinechamber.org/events/details/where-2-next-cruise-planners-and-celebrity-cruises-197559
END:VEVENT

END:VCALENDAR
