BEGIN:VCALENDAR
VERSION:2.0
PRODID:-//ChamberMaster//Event Calendar 2.0//EN
METHOD:PUBLISH
X-PUBLISHED-TTL:P3D
REFRESH-INTERVAL:P3D
CALSCALE:GREGORIAN
BEGIN:VEVENT
DTSTART:20130522T170000Z
DTEND:20130522T180000Z
X-MICROSOFT-CDO-ALLDAYEVENT:FALSE
SUMMARY:What's Your Cancer IQ? - Kotsanis Institute
DESCRIPTION:Think you know all there is about cancer treatment?  Maybe not... Join us for a FREE lunch and find out more about non-toxic and non-invasive tools you may not know about.
X-ALT-DESC;FMTTYPE=text/html:<span style="font-family:verdana\;"><span style="font-size:12px\;">Think you know all there is about cancer treatment?&nbsp\; Maybe not... Join us for a FREE lunch and find out more about non-toxic and non-invasive tools you may not know about.</span></span>
LOCATION:Kotsanis Institute 2260 Pool Road Grapevine\, Texas 76051
UID:e.770.163521
SEQUENCE:3
DTSTAMP:20260421T130123Z
URL:https://business.grapevinechamber.org/events/details/what-s-your-cancer-iq-kotsanis-institute-05-22-2013-163521
END:VEVENT

END:VCALENDAR
