BEGIN:VCALENDAR
VERSION:2.0
PRODID:-//ChamberMaster//Event Calendar 2.0//EN
METHOD:PUBLISH
X-PUBLISHED-TTL:P3D
REFRESH-INTERVAL:P3D
CALSCALE:GREGORIAN
BEGIN:VEVENT
DTSTART:20260523T150000Z
DTEND:20260523T190000Z
X-MICROSOFT-CDO-ALLDAYEVENT:FALSE
SUMMARY:Weekend Breakfast
DESCRIPTION:Bohemian Bull is open for Breakfast Every Saturday and Sunday Breakfast/Brunch being served from 10am - 2pm.  Breakfast items include Pancakes\, French Toast\, Chicken and Waffles\, Breakfast Bowls\, Breakfast Sandwiches\, Eggs your Way\, Biscuits and Gravy and other favorites. You can also enjoy breakfast cocktails such as Bloody Mary's and Mimosas.
X-ALT-DESC;FMTTYPE=text/html:Bohemian Bull is open for Breakfast Every Saturday and Sunday Breakfast/Brunch being served from 10am - 2pm.&nbsp\; Breakfast items include Pancakes\, French Toast\, Chicken and Waffles\, Breakfast Bowls\, Breakfast Sandwiches\, Eggs your Way\, Biscuits and Gravy and other favorites. You can also enjoy breakfast cocktails such as Bloody Mary&#39\;s and Mimosas.&nbsp\;&nbsp\;
LOCATION:Bohemian Bull Grapevine 1112 W Northwest Highway Grapevine\, TX 76051 682-223-1384
UID:e.770.203703
SEQUENCE:3
DTSTAMP:20260421T113533Z
URL:https://business.grapevinechamber.org/events/details/weekend-breakfast-05-23-2026-203703
END:VEVENT

END:VCALENDAR
