BEGIN:VCALENDAR
VERSION:2.0
PRODID:-//ChamberMaster//Event Calendar 2.0//EN
METHOD:PUBLISH
X-PUBLISHED-TTL:P3D
REFRESH-INTERVAL:P3D
CALSCALE:GREGORIAN
BEGIN:VEVENT
DTSTART:20121017T230000Z
DTEND:20121018T045500Z
X-MICROSOFT-CDO-ALLDAYEVENT:FALSE
SUMMARY:VOLUNTEER EXTRAS NEEDED FOR FOOTBALL MOVIE "One Heart"
DESCRIPTION:VOLUNTEER EXTRAS NEEDED FOR FOOTBALL MOVIE\n\n"One Heart"\n\n\n\nTHE COMMUNITY IS INVITED TO FILL THE STANDS FOR THE BIGGEST SCENES IN THE ONE HEART MOVIE\n\n\n\nDallas\, TX (October 9\, 2012)   The ONE HEART movie is looking for fans of all ages to serve as volunteer extras in key scenes in the film\, on Wednesday -October 17th\, at Grapevine Faith Stadium in Grapevine\, TX.\n\n\n\nDirector\, Mark Ellis will be recreating the emotional and inspirational\, special game that has launched a movement and inspired millions. The night will be filled with entertainment\, food\, giveaways and other excitement.\n\n\n\nBased on real-life events\, One Heart tells the amazing story of a 2008 high school football game between Grapevine Faith School and the Gainesville State School\, a maximum-security juvenile facility. They were two groups from diverse backgrounds whose paths crossed to create life-changing hope and inspiration for those on both sides of the ball. Two teams\, two cultures\, One Heart. The movie is being produced by Etern  Films in association with Birchwood Pictures.\n\n\n\n"One Heart is a powerful story that is already impacting troubled kids right where we live and all across America\," said Jason Witten\, All-Pro tight end for the Dallas Cowboys.\n\n\n\nSpecial Volunteer Extras Night\n\n\n\nWhen:     Wednesday\, Oct. 17\, 2012\n\nWhere:    Grapevine Faith Stadium\n\n                729 E Cannon St Grapevine\, TX 76051\n\nTime:         6p-12a\n\n\n\nRegistration: Each person coming must register at OneHeartMovie.com/extras.\n\n\n\nWardrobe: Please wear RED and bring optional clothing in BLACK. Please avoid wearing clothing with logos\, wording or anything that says "One Heart." You may bring clothing with "Faith" or clothing from Grapevine Faith School. In addition\, please pay attention to the weather\, as it might be necessary to wear warm clothing.\n\n\n\nCommitment: Participants need to be able to stay during the entire filming session.\n\n\n\nCompensation: Participants will not be compensated\, but there will be giveaways throughout the night.\n\n\n\nProcess: During the filming participants will be asked to follow various instructions given by the Director\, which will include cheering on cue\, and from time to time moving around the stadium. Some will be invited to be on the field. Simply bring a great attitude and get ready for loads and loads of fun!\n\n\n\nChildren: Children are welcome\, but must be accompanied by an adult.\n\n\n\nMedia: One Heart Director Mark Ellis\, and Producers Steve Riach and Larry Frenzel can be available for interviews upon request.\n\n\n\nABOUT THE PRODUCTION TEAM:\n\n\n\nMark Ellis\, Director\, has been a leader in scripted sports action for Hollywood productions for over 20 years. Mark has directed Oscar winning actors and Hall of Fame athletes in over 40 movies grossing more than one billion dollars at the box office. Films he has worked on include "The Rookie"\, "Miracle"\, "Invincible"\, "The Longest Yard"\, "Radio"\, and "We Are Marshall". He's also collaborated on multiple TV projects and commercial development. Mark played college football at Appalachian State and graduated from the University of South Carolina.\n\n\n\nSteve Riach\, Producer/Screenwriter\, is a veteran filmmaker and award-winning producer and writer. He has over 25 years experience in film and television\, working with some of the most prominent names in sports\, and has produced and written numerous award-winning documentaries.\n\n\n\nLarry Frenzel\, Producer/Screenwriter\, is a producer\, writer and attorney\, with extensive experience in development\, production and distribution. His producing credits include "The Lightkeepers" (producer) and "Grace Unplugged" (producer)\, coming 2013.\n\n\n\nEtern  Films develops and produces independent films and other intellectual properties containing virtuous content that inspires\, informs\, and entertains. \n\n\n\nBirchwood Pictures produces and distributes independent films that provoke thought and instill hope through moving\, redemptive and entertaining stories.
X-ALT-DESC;FMTTYPE=text/html:VOLUNTEER EXTRAS NEEDED FOR FOOTBALL MOVIE<br />\n&ldquo\;One Heart&rdquo\;<br />\n<br />\nTHE COMMUNITY IS INVITED TO FILL THE STANDS FOR THE BIGGEST SCENES IN THE ONE HEART MOVIE<br />\n<br />\nDallas\, TX (October 9\, 2012) &ndash\; The ONE HEART movie is looking for fans of all ages to serve as volunteer extras in key scenes in the film\, on Wednesday -October 17th\, at Grapevine Faith Stadium in Grapevine\, TX.<br />\n<br />\nDirector\, Mark Ellis will be recreating the emotional and inspirational\, special game that has launched a movement and inspired millions. The night will be filled with entertainment\, food\, giveaways and other excitement.<br />\n<br />\nBased on real-life events\, One Heart tells the amazing story of a 2008 high school football game between Grapevine Faith School and the Gainesville State School\, a maximum-security juvenile facility. They were two groups from diverse backgrounds whose paths crossed to create life-changing hope and inspiration for those on both sides of the ball. Two teams\, two cultures\, One Heart. The movie is being produced by Etern&eacute\; Films in association with Birchwood Pictures.<br />\n<br />\n&ldquo\;One Heart is a powerful story that is already impacting troubled kids right where we live and all across America\,&rdquo\; said Jason Witten\, All-Pro tight end for the Dallas Cowboys.<br />\n<br />\nSpecial Volunteer Extras Night<br />\n<br />\nWhen: &nbsp\;&nbsp\;&nbsp\; Wednesday\, Oct. 17\, 2012<br />\nWhere:&nbsp\;&nbsp\;&nbsp\; Grapevine Faith Stadium<br />\n&nbsp\;&nbsp\;&nbsp\; &nbsp\;&nbsp\; &nbsp\; &nbsp\; &nbsp\; &nbsp\;&nbsp\; 729 E Cannon St Grapevine\, TX 76051<br />\nTime: &nbsp\;&nbsp\;&nbsp\; &nbsp\;&nbsp\;&nbsp\; 6p-12a<br />\n<br />\nRegistration: Each person coming must register at OneHeartMovie.com/extras.<br />\n<br />\nWardrobe: Please wear RED and bring optional clothing in BLACK. Please avoid wearing clothing with logos\, wording or anything that says &ldquo\;One Heart.&rdquo\; You may bring clothing with &ldquo\;Faith&rdquo\; or clothing from Grapevine Faith School. In addition\, please pay attention to the weather\, as it might be necessary to wear warm clothing.<br />\n<br />\nCommitment: Participants need to be able to stay during the entire filming session.<br />\n<br />\nCompensation: Participants will not be compensated\, but there will be giveaways throughout the night.<br />\n<br />\nProcess: During the filming participants will be asked to follow various instructions given by the Director\, which will include cheering on cue\, and from time to time moving around the stadium. Some will be invited to be on the field. Simply bring a great attitude and get ready for loads and loads of fun!<br />\n<br />\nChildren: Children are welcome\, but must be accompanied by an adult.<br />\n<br />\nMedia: One Heart Director Mark Ellis\, and Producers Steve Riach and Larry Frenzel can be available for interviews upon request.<br />\n<br />\nABOUT THE PRODUCTION TEAM:<br />\n<br />\nMark Ellis\, Director\, has been a leader in scripted sports action for Hollywood productions for over 20 years. Mark has directed Oscar winning actors and Hall of Fame athletes in over 40 movies grossing more than one billion dollars at the box office. Films he has worked on include &ldquo\;The Rookie&rdquo\;\, &ldquo\;Miracle&rdquo\;\, &ldquo\;Invincible&rdquo\;\, &ldquo\;The Longest Yard&rdquo\;\, &ldquo\;Radio&rdquo\;\, and &ldquo\;We Are Marshall&rdquo\;. He&#39\;s also collaborated on multiple TV projects and commercial development. Mark played college football at Appalachian State and graduated from the University of South Carolina.<br />\n<br />\nSteve Riach\, Producer/Screenwriter\, is a veteran filmmaker and award-winning producer and writer. He has over 25 years experience in film and television\, working with some of the most prominent names in sports\, and has produced and written numerous award-winning documentaries.<br />\n<br />\nLarry Frenzel\, Producer/Screenwriter\, is a producer\, writer and attorney\, with extensive experience in development\, production and distribution. His producing credits include &ldquo\;The Lightkeepers&rdquo\; (producer) and &ldquo\;Grace Unplugged&rdquo\; (producer)\, coming 2013.<br />\n<br />\nEtern&eacute\; Films develops and produces independent films and other intellectual properties containing virtuous content that inspires\, informs\, and entertains.&nbsp\;<br />\n<br />\nBirchwood Pictures produces and distributes independent films that provoke thought and instill hope through moving\, redemptive and entertaining stories.<br />\n
LOCATION:Grapevine Faith Stadium 729 E Cannon St Grapevine\, TX 76051
UID:e.770.163055
SEQUENCE:3
DTSTAMP:20260422T110909Z
URL:https://business.grapevinechamber.org/events/details/volunteer-extras-needed-for-football-movie-one-heart-10-17-2012-163055
END:VEVENT

END:VCALENDAR
