BEGIN:VCALENDAR
VERSION:2.0
PRODID:-//ChamberMaster//Event Calendar 2.0//EN
METHOD:PUBLISH
X-PUBLISHED-TTL:P3D
REFRESH-INTERVAL:P3D
CALSCALE:GREGORIAN
BEGIN:VEVENT
DTSTART:20250116T150000Z
DTEND:20250116T163000Z
X-MICROSOFT-CDO-ALLDAYEVENT:FALSE
SUMMARY:Vision Board Workshop for Realtors
DESCRIPTION:Real Estate Professionals: It's Time to Visualize Your Success!\n\nAre you ready to start 2025 with a clear vision and a strategy for growth? Whether you're looking to close more deals\, expand your network\, or level up your real estate business\, a Vision Board is a powerful tool to help you manifest your goals and stay focused all year long.\n\nDate: January 16\, 2025 \n\nTime: 9:00 AM - 10:30 AM \n\nLocation: Title Partners \n\n                 129 S. Main Street\, Suite 105\n\n                 Grapevine\, Texas 76262\n\n\n\nThis is your chance to kick off the year with intention\, inspiration\, and a clear roadmap to reach your goals. Whether you're aiming for more sales\, better client relationships\, or a healthier work-life balance\, a Vision Board can keep your dreams in sight every day. Space is limited\, so be sure to RSVP today and secure your spot!
X-ALT-DESC;FMTTYPE=text/html:<p><strong>Real Estate Professionals: It&rsquo\;s Time to Visualize Your Success!</strong></p>\n\n<p>Are you ready to start 2025 with a clear vision and a strategy for growth? Whether you&#39\;re looking to close more deals\, expand your network\, or level up your real estate business\, a&nbsp\;<strong>Vision Board</strong>&nbsp\;is a powerful tool to help you manifest your goals and stay focused all year long.</p>\n\n<p><span style="color:rgb(6\, 0\, 255)"><strong>Date:</strong></span>&nbsp\;January 16\, 2025&nbsp\;<br />\n<span style="color:rgb(6\, 0\, 255)"><strong>Time:</strong>&nbsp\;<span style="color:rgb(0\, 0\, 0)">9:00 A</span></span>M - 10:30 AM&nbsp\;</p>\n\n<p><strong><span style="color:rgb(6\, 0\, 255)">Location: </span></strong><span style="color:#000000">Title Partners&nbsp\;</span></p>\n\n<p>&nbsp\; &nbsp\; &nbsp\; &nbsp\; &nbsp\; &nbsp\; &nbsp\; &nbsp\; &nbsp\;129 S. Main Street\, Suite 105</p>\n\n<p>&nbsp\; &nbsp\; &nbsp\; &nbsp\; &nbsp\; &nbsp\; &nbsp\; &nbsp\; &nbsp\;Grapevine\, Texas 76262<br />\n<br />\nThis is your chance to kick off the year with intention\, inspiration\, and a clear roadmap to reach your goals. Whether you&rsquo\;re aiming for more sales\, better client relationships\, or a healthier work-life balance\, a Vision Board can keep your dreams in sight every day.&nbsp\;<strong>Space is limited</strong>\, so be sure to RSVP today and secure your spot!</p>\n
LOCATION:Title Partners 129 S. Main Street\, Suite 105 Grapevine\, Texas 76262
UID:e.770.200556
SEQUENCE:3
DTSTAMP:20260423T134527Z
URL:https://business.grapevinechamber.org/events/details/vision-board-workshop-for-realtors-200556
END:VEVENT

END:VCALENDAR
