BEGIN:VCALENDAR
VERSION:2.0
PRODID:-//ChamberMaster//Event Calendar 2.0//EN
METHOD:PUBLISH
X-PUBLISHED-TTL:P3D
REFRESH-INTERVAL:P3D
CALSCALE:GREGORIAN
BEGIN:VEVENT
DTSTART;VALUE=DATE:20121013
DTEND;VALUE=DATE:20121014
TRANSP:TRANSPARENT
X-MICROSOFT-CDO-ALLDAYEVENT:TRUE
SUMMARY:Verizon Re Grand Opening
DESCRIPTION:Save up tp $50 OFF Any 4G LTE Android Smartphone Or Jetpack.\n\n\n\nValid only on New 2-yr. activations.
X-ALT-DESC;FMTTYPE=text/html:Save up tp $50 OFF Any 4G LTE Android Smartphone Or Jetpack.<br />\n<br />\nValid only on New 2-yr. activations.
LOCATION:1400 William D.Tate Grapevine\, TX 76051
UID:e.770.163050
SEQUENCE:3
DTSTAMP:20260422T110609Z
URL:https://business.grapevinechamber.org/events/details/verizon-re-grand-opening-10-13-2012-163050
END:VEVENT

END:VCALENDAR
