BEGIN:VCALENDAR
VERSION:2.0
PRODID:-//ChamberMaster//Event Calendar 2.0//EN
METHOD:PUBLISH
X-PUBLISHED-TTL:P3D
REFRESH-INTERVAL:P3D
CALSCALE:GREGORIAN
BEGIN:VEVENT
DTSTART:20121031T160000Z
DTEND:20121031T190000Z
X-MICROSOFT-CDO-ALLDAYEVENT:FALSE
SUMMARY:United Way Fundraiser BBQ lunch
DESCRIPTION:BBQ Lunch provided by Commissioner Gary Fickes and staff
X-ALT-DESC;FMTTYPE=text/html:BBQ Lunch&nbsp\;provided by Commissioner Gary Fickes and staff<br />\n<br />\n
LOCATION:NE SubCourthouse 645 Grapevine Hwy Hurst\, TX 76054
UID:e.770.162797
SEQUENCE:3
DTSTAMP:20260422T110532Z
URL:https://business.grapevinechamber.org/events/details/united-way-fundraiser-bbq-lunch-10-31-2012-162797
END:VEVENT

END:VCALENDAR
