BEGIN:VCALENDAR
VERSION:2.0
PRODID:-//ChamberMaster//Event Calendar 2.0//EN
METHOD:PUBLISH
X-PUBLISHED-TTL:P3D
REFRESH-INTERVAL:P3D
CALSCALE:GREGORIAN
BEGIN:VEVENT
DTSTART:20130107T150000Z
DTEND:20130107T180000Z
X-MICROSOFT-CDO-ALLDAYEVENT:FALSE
SUMMARY:Understanding Dementia Care
DESCRIPTION:Senior Helpers and the Alzheimer's Foundation of America (AFA) are bringing Teepa Snow to Grapevine on January 7\, 2013 for one day only.  Teepa is dementia Care and education specialist with over 31 years of experience in geriatrics. This seminar will provide CEU credit for Nurses and Social Workers. Registration necessary.  Sponsorship opportunities available.  Contact Aileen Foley at 682-465-4836 or 214-361-7943 for more information.
X-ALT-DESC;FMTTYPE=text/html:<span style="font-size: 11px">Senior Helpers and the Alzheimer&#39\;s Foundation of America (AFA) are bringing Teepa Snow to Grapevine on January 7\, 2013 for one day only.&nbsp\; Teepa is dementia Care and education specialist with over 31 years of experience in geriatrics. This seminar will provide CEU credit for Nurses and Social Workers. Registration necessary.&nbsp\; Sponsorship opportunities available.&nbsp\; Contact Aileen Foley at 682-465-4836 or 214-361-7943 for more information.</span>
LOCATION:The Church at the Cross 3000 William D. Tate Avenue Grapevine\, TX
UID:e.770.163032
SEQUENCE:3
DTSTAMP:20260421T210601Z
URL:https://business.grapevinechamber.org/events/details/understanding-dementia-care-01-07-2013-163032
END:VEVENT

END:VCALENDAR
