BEGIN:VCALENDAR
VERSION:2.0
PRODID:-//ChamberMaster//Event Calendar 2.0//EN
METHOD:PUBLISH
X-PUBLISHED-TTL:P3D
REFRESH-INTERVAL:P3D
CALSCALE:GREGORIAN
BEGIN:VEVENT
DTSTART:20121006T130000Z
DTEND:20121006T180000Z
X-MICROSOFT-CDO-ALLDAYEVENT:FALSE
SUMMARY:Trash & Treasures Shoreline Clean-Up & Treasure Hunt
DESCRIPTION:COME TREASURE HUNTING!!!\n\nVolunteers will be spread along the shoreline via foot\, kayak and canoe in search of sparkly Mardi Gras beads while picking up litter. Find the Beads  Win the Prizes!! \n\n\n\nREGISTER at kgvb.org under 'Contact Us' \, call 817-410-3490 or text 817-647-5253.\n\n\n\nGRAND PRIZE\n\nBounty Hunter Lone Star\n\nMetal Detector\n\n\n\nOTHER PRIZES\n\nSea Life Aquarium & Legoland tickets\n\nSun & Ski Sports gift cards\n\nAcademy Sports Gift Bottles\n\nStand-up paddle board rentals\n\nFishing trips (half-day)\n\nKayak rentals certificates\n\nCampground gift cards\n\nBall caps\, shirts & beach towels\n\n\n\nALL SUPPLIES PROVIDED. FREE KAYAKING & STAND-UP PADDLEBOARDING.\n\n\n\nChick-fil-A from Grapevine Mills is feeding everyone AND 'The Boogieman' will entertain with a variety of favorite tunes.
X-ALT-DESC;FMTTYPE=text/html:<span style="color: #008000"><strong>COME TREASURE HUNTING!!!</strong></span><br />\nVolunteers will be spread along the shoreline via foot\, kayak and canoe in search of sparkly Mardi Gras beads while picking up litter. <u>Find the Beads</u> &hellip\;<u>Win the Prizes!! </u><br />\n<br />\n<span style="color: #800080"><strong>REGISTER</strong></span> at kgvb.org under &#39\;Contact Us&#39\; \, call 817-410-3490 or text 817-647-5253.<br />\n<br />\n<span style="color: #ff0000"><strong>GRAND PRIZE</strong></span><br />\nBounty Hunter Lone Star<br />\nMetal Detector<br />\n<br />\n<span style="color: #0000cd"><strong>OTHER PRIZES</strong></span><br />\nSea Life Aquarium &amp\; Legoland tickets<br />\nSun &amp\; Ski Sports gift cards<br />\nAcademy Sports Gift Bottles<br />\nStand-up paddle board rentals<br />\nFishing trips (half-day)<br />\nKayak rentals certificates<br />\nCampground gift cards<br />\nBall caps\, shirts &amp\; beach towels<br />\n<br />\n<strong><span style="color: #800000">ALL SUPPLIES PROVIDED. FREE KAYAKING &amp\; STAND-UP PADDLEBOARDING.</span></strong><br />\n<br />\n<span style="color: #ff0000">Chick-fil-A from Grapevine Mills </span>is feeding everyone AND <span style="color: #0000cd">&#39\;The Boogieman&#39\; </span>will entertain with a variety of favorite tunes.<br />\n
LOCATION:Lake Grapevine - come to the Trawick Pavilion in the Oak Grove Sports Complex (2700 Darren G. Medlin Drive\, Grapevine 76051)
UID:e.770.163042
SEQUENCE:3
DTSTAMP:20260422T110819Z
URL:https://business.grapevinechamber.org/events/details/trash-treasures-shoreline-clean-up-treasure-hunt-10-06-2012-163042
END:VEVENT

END:VCALENDAR
