BEGIN:VCALENDAR
VERSION:2.0
PRODID:-//ChamberMaster//Event Calendar 2.0//EN
METHOD:PUBLISH
X-PUBLISHED-TTL:P3D
REFRESH-INTERVAL:P3D
CALSCALE:GREGORIAN
BEGIN:VEVENT
DTSTART;VALUE=DATE:20121106
DTEND;VALUE=DATE:20121229
TRANSP:TRANSPARENT
X-MICROSOFT-CDO-ALLDAYEVENT:TRUE
SUMMARY:Toys for Tots
DESCRIPTION:Joe's Crabshack is a Toys for Tots drop spot now!!! Bring in your new\, unwrapped toys for boys and girls!
X-ALT-DESC;FMTTYPE=text/html:<p>\n	Joe&#39\;s Crabshack is a Toys for Tots drop spot now!!! Bring in your new\, unwrapped toys for boys and girls!</p>\n
LOCATION:Joe's Crabshack 201 W. State Hwy 114 Grapevine\, TX 76051
UID:e.770.163079
SEQUENCE:3
DTSTAMP:20260420T105913Z
URL:https://business.grapevinechamber.org/events/details/toys-for-tots-11-06-2012-163079
END:VEVENT

END:VCALENDAR
