BEGIN:VCALENDAR
VERSION:2.0
PRODID:-//ChamberMaster//Event Calendar 2.0//EN
METHOD:PUBLISH
X-PUBLISHED-TTL:P3D
REFRESH-INTERVAL:P3D
CALSCALE:GREGORIAN
BEGIN:VEVENT
DTSTART:20260305T210000Z
DTEND:20260306T000000Z
X-MICROSOFT-CDO-ALLDAYEVENT:FALSE
SUMMARY:Tooth Story Pediatric Dentistry One Year Anniversary Celebration
DESCRIPTION:Tooth Story Pediatric Dentistry Turns ONE!\n\nWe're celebrating one year of smiles\, giggles\, and healthy little teeth\, and we'd love for our community to join the fun!\n\nBring the whole family for a special 1-Year Anniversary Celebration filled with:\n\n\n	\n	Food & kid-friendly snacks\n	\n	\n	Games & interactive activities\n	\n	\n	Prizes & giveaways\n	\n\n\nThis celebration is our way of saying thank you for trusting us with your children's smiles and for being part of the Tooth Story family. Whether you've been with us from day one or are just getting to know us\, we can't wait to celebrate together!\n\nCome play\, snack\, and celebrate one amazing year and many more to come!
X-ALT-DESC;FMTTYPE=text/html:<p><strong>Tooth Story Pediatric Dentistry Turns ONE!</strong></p>\n\n<p>We&rsquo\;re celebrating <strong>one year of smiles\, giggles\, and healthy little teeth</strong>\, and we&rsquo\;d love for our community to join the fun!</p>\n\n<p>Bring the whole family for a special <strong>1-Year Anniversary Celebration</strong> filled with:</p>\n\n<ul>\n	<li>\n	<p>Food &amp\; kid-friendly snacks</p>\n	</li>\n	<li>\n	<p>Games &amp\; interactive activities</p>\n	</li>\n	<li>\n	<p>Prizes &amp\; giveaways</p>\n	</li>\n</ul>\n\n<p>This celebration is our way of saying <strong>thank you</strong> for trusting us with your children&rsquo\;s smiles and for being part of the Tooth Story family. Whether you&rsquo\;ve been with us from day one or are just getting to know us\, we can&rsquo\;t wait to celebrate together!</p>\n\n<p>Come play\, snack\, and celebrate one amazing year&mdash\;<strong>and many more to come!</strong></p>\n
LOCATION:Tooth Story Pediatric Dentistry 833 E Northwest Hwy Suite 100 Grapevine Texas 76051
UID:e.770.204460
SEQUENCE:3
DTSTAMP:20260421T122914Z
URL:https://business.grapevinechamber.org/events/details/tooth-story-pediatric-dentistry-one-year-anniversary-celebration-204460
END:VEVENT

END:VCALENDAR
