BEGIN:VCALENDAR
VERSION:2.0
PRODID:-//ChamberMaster//Event Calendar 2.0//EN
METHOD:PUBLISH
X-PUBLISHED-TTL:P3D
REFRESH-INTERVAL:P3D
CALSCALE:GREGORIAN
BEGIN:VEVENT
DTSTART:20260331T190000Z
DTEND:20260331T233000Z
X-MICROSOFT-CDO-ALLDAYEVENT:FALSE
SUMMARY:TICKETS: Grapevine Business Expo
DESCRIPTION:TICKETS AVAILABLE FOR PURCHASE ON SITE BEGINNING AT 1:50 PM ON MARCH 31ST.\n\n\n\n\n\nJoin us for the inaugural Grapevine Business Expo presented by Bank of the West on March 31st from 2:00 PM - 6:30 PM.  Enjoy meeting over 60 Grapevine area businesses.\n\n\n\nTicket includes:\n\nGrand Prize Entry by completing event passport for a Two Night Stay at Great Wolf Lodge!\n\nComplimentary Parking\n\nSwag Bag from City of Grapevine Economic Development\n\nRaffle Prizes\n\nLight bite samples\n\n\n\nOver 60 exhibitors ready to meet you!\n\n6 Stones   Alert 360 - Fort Worth   All Junked Up   Andy's Frozen Custard   Applied Therapeutic Sciences   Arcade 92 Flower Mound   Atmos Energy   B12 Store   BAM Ad Space   Best Sleep Today   Beth Marie's Old Fashioned Ice Cream & Soda Fountains   Body Boutique Spa   Branding Resources   California Closets   Caribou Coffee   Christian Brothers Automotive   CR Plumbing Air & Electric   Deluxe Roofing and Construction\, LLC   Dig World Grapevine   First Bank Texas   Freeform Chiropractic Colleyville   Frost Bank   Grapevine High School Band Booster   Grapevine Parks & Rec   Grapevine Police Department   Grapevine-Colleyville Education Foundation   Grout Medic of Grapevine   Heard It Through The Grapevine Audiology\, PC   Insurance Solutions USA\, LLC   la Madeleine   Lucas Family Funeral Homes and Cremation Services   Made in the Shade Blinds North DFW   Marinas of Lake Grapevine   Mary Kay - Lara McGuinness   Mosquito Hunters   OIG/Office Interiors Group   Painting with a Twist   Peikar Orthodontics   Portillo's   Profit Finder Marketing   Randolph Brooks Federal Credit Union   ReCoat Revolution of North DFW   Rock & Brews   Rolling Suds of Dallas-Irving   Sable Society Sage Chiropractic   Simmons Bank   State Farm / Natalie Burkhaulter   Texas Gun Experience   Texas HVAC Experts   Three 23 Realty   Tim Hogan's Carpets and Floors   Valley Hope of Grapevine Vidda Creative   Willard Automotive   Winestein's Tasting Room   Wise Guys Pizzeria   Woops! Macarons & Gifts\n\n\n\nFAQ's:\n\n	How is the Expo being advertised?\n	\n		An ad in the Community Impact Newspaper\, social media posts\, email blasts\, monthly business matters newsletter\, website.\n	\n	\n	What is the passport section of the program?\n	\n		Visit every exhibitor booth on the map and collect a stamp from each one. Completed maps will be entered into a drawing for a two night stay at Great Wolf Lodge\n	\n	\n	Will this be in the waterpark?\n	\n		Unfortunately no\, this will be in the Great Wolf Lodge Conference Center from \n	\n	\n	Will there be a bar?\n	\n		Yes\, there will be a cash bar\n	\n	\n	Is parking included?\n	\n		Yes\, parking is included for everyone\n	\n	\n	Is this open to non-chamber members?\n	\n		Yes\, open to everyone to attend or be an exhibitor. Chamber members get special pricing on booths.
X-ALT-DESC;FMTTYPE=text/html:<em><u><span style="font-size:28px\;"><b>TICKETS AVAILABLE FOR PURCHASE ON SITE BEGINNING AT 1:50 PM ON MARCH 31ST.</b></span></u></em><br />\n<br />\n<br />\nJoin us for the inaugural Grapevine Business Expo presented by Bank of the West on March 31st from 2:00 PM - 6:30 PM.&nbsp\; Enjoy meeting over 60 Grapevine area businesses.<br />\n<br />\n<strong>Ticket includes:</strong><br />\nGrand Prize Entry by completing event passport for a Two Night Stay at Great Wolf Lodge!<br />\nComplimentary Parking<br />\nSwag Bag from City of Grapevine Economic Development<br />\nRaffle Prizes<br />\nLight bite samples<br />\n<br />\n<strong>Over 60 exhibitors ready to meet you!</strong><br />\n6 Stones &bull\; Alert 360 - Fort Worth &bull\; All Junked Up &bull\; Andy&#39\;s Frozen Custard &bull\; Applied Therapeutic Sciences &bull\; Arcade 92 Flower Mound &bull\; Atmos Energy &bull\; B12 Store &bull\; BAM Ad Space &bull\; Best Sleep Today &bull\; Beth Marie&#39\;s Old Fashioned Ice Cream &amp\; Soda Fountains &bull\; Body Boutique Spa &bull\; Branding Resources &bull\; California Closets &bull\; Caribou Coffee &bull\; Christian Brothers Automotive &bull\; CR Plumbing Air &amp\; Electric &bull\; Deluxe Roofing and Construction\, LLC &bull\; Dig World Grapevine &bull\; First Bank Texas &bull\; Freeform Chiropractic Colleyville &bull\; Frost Bank &bull\; Grapevine High School Band Booster &bull\; Grapevine Parks &amp\; Rec &bull\; Grapevine Police Department &bull\; Grapevine-Colleyville Education Foundation &bull\; Grout Medic of Grapevine &bull\; Heard It Through The Grapevine Audiology\, PC &bull\; Insurance Solutions USA\, LLC &bull\; la Madeleine &bull\; Lucas Family Funeral Homes and Cremation Services &bull\; Made in the Shade Blinds North DFW &bull\; Marinas of Lake Grapevine &bull\; Mary Kay - Lara McGuinness &bull\; Mosquito Hunters &bull\; OIG/Office Interiors Group &bull\; Painting with a Twist &bull\; Peikar Orthodontics &bull\; Portillo&#39\;s &bull\; Profit Finder Marketing &bull\; Randolph Brooks Federal Credit Union &bull\; ReCoat Revolution of North DFW &bull\; Rock &amp\; Brews &bull\; Rolling Suds of Dallas-Irving &bull\; Sable Society Sage Chiropractic &bull\; Simmons Bank &bull\; State Farm / Natalie Burkhaulter &bull\; Texas Gun Experience &bull\; Texas HVAC Experts &bull\; Three 23 Realty &bull\; Tim Hogan&#39\;s Carpets and Floors &bull\; Valley Hope of Grapevine Vidda Creative &bull\; Willard Automotive &bull\; Winestein&rsquo\;s Tasting Room &bull\; Wise Guys Pizzeria &bull\; Woops! Macarons &amp\; Gifts<br />\n<br />\n<strong>FAQ&#39\;s:</strong>\n<ol>\n	<li>How is the Expo being advertised?\n	<ul>\n		<li>An ad in the Community Impact Newspaper\, social media posts\, email blasts\, monthly business matters newsletter\, website.</li>\n	</ul>\n	</li>\n	<li>What is the passport section of the program?\n	<ul>\n		<li>Visit every exhibitor booth on the map and collect a stamp from each one. Completed maps will be entered into a drawing for a two night stay at Great Wolf Lodge</li>\n	</ul>\n	</li>\n	<li>Will this be in the waterpark?\n	<ul>\n		<li>Unfortunately no\, this will be in the Great Wolf Lodge Conference Center from&nbsp\;</li>\n	</ul>\n	</li>\n	<li>Will there be a bar?\n	<ul>\n		<li>Yes\, there will be a cash bar</li>\n	</ul>\n	</li>\n	<li>Is parking included?\n	<ul>\n		<li>Yes\, parking is included for everyone</li>\n	</ul>\n	</li>\n	<li>Is this open to non-chamber members?\n	<ul>\n		<li>Yes\, open to everyone to attend or be an exhibitor. Chamber members get special pricing on booths.</li>\n	</ul>\n	</li>\n</ol>\n
LOCATION:Great Wolf Lodge Conference Center
UID:e.770.204494
SEQUENCE:3
DTSTAMP:20260422T140603Z
URL:https://business.grapevinechamber.org/events/details/tickets-grapevine-business-expo-204494
END:VEVENT

END:VCALENDAR
