BEGIN:VCALENDAR
VERSION:2.0
PRODID:-//ChamberMaster//Event Calendar 2.0//EN
METHOD:PUBLISH
X-PUBLISHED-TTL:P3D
REFRESH-INTERVAL:P3D
CALSCALE:GREGORIAN
BEGIN:VEVENT
DTSTART:20131219T013000Z
DTEND:20131219T013000Z
X-MICROSOFT-CDO-ALLDAYEVENT:FALSE
SUMMARY:The Texas Tenors: Deep in the Heart of Christmas
DESCRIPTION:It's a return engagement for the Texas Tenors at Grapevine's Palace Theatre! Audiences will be amazed at this terrific trio\, most well-known for their amazing journey on America's Got Talent. These shows sell out fast so buy your tickets now. Tickets are available online until midnight the day before the show.\n\n\n\nFor more information and tickets\, click here.\n\n\n\nPerformances December - 18-22
X-ALT-DESC;FMTTYPE=text/html:It&#39\;s a return engagement for the Texas Tenors at Grapevine&#39\;s Palace Theatre! Audiences will be amazed at this terrific trio\, most well-known for their amazing journey on America&#39\;s Got Talent. These shows sell out fast so buy your tickets now. Tickets are available online until midnight the day before the show.<br />\n<br />\nFor more information and tickets\, <strong><a href="https://www.grapevinetexasusa.com/Heritage/PalaceArtsCenter/LivePerformances/TheTexasTenors/tabid/1206/Default.aspx" target="_blank">click here</a></strong>.<br />\n<br />\n<em><strong>Performances December - 18-22</strong></em>
LOCATION:Palace Arts Center 300 S. Main St. Grapevine\, TX 76051
UID:e.770.164057
SEQUENCE:3
DTSTAMP:20260421T000558Z
URL:https://business.grapevinechamber.org/events/details/the-texas-tenors-deep-in-the-heart-of-christmas-12-18-2013-164057
END:VEVENT

END:VCALENDAR
