BEGIN:VCALENDAR
VERSION:2.0
PRODID:-//ChamberMaster//Event Calendar 2.0//EN
METHOD:PUBLISH
X-PUBLISHED-TTL:P3D
REFRESH-INTERVAL:P3D
CALSCALE:GREGORIAN
BEGIN:VEVENT
DTSTART:20130718T223000Z
DTEND:20130719T000000Z
X-MICROSOFT-CDO-ALLDAYEVENT:FALSE
SUMMARY:"The Stages of Alzheimer's and Life Expectancy" - Presented by Jane Anderson
DESCRIPTION:
X-ALT-DESC;FMTTYPE=text/html:
LOCATION:Autumn Leaves of Grapevine 2501 Heritage Avenue Grapevine\, TX 76051
UID:e.770.163616
SEQUENCE:3
DTSTAMP:20260420T095722Z
URL:https://business.grapevinechamber.org/events/details/the-stages-of-alzheimer-s-and-life-expectancy-presented-by-jane-anderson-07-18-2013-163616
END:VEVENT

END:VCALENDAR
