BEGIN:VCALENDAR
VERSION:2.0
PRODID:-//ChamberMaster//Event Calendar 2.0//EN
METHOD:PUBLISH
X-PUBLISHED-TTL:P3D
REFRESH-INTERVAL:P3D
CALSCALE:GREGORIAN
BEGIN:VEVENT
DTSTART:20130809T003000Z
DTEND:20130809T003000Z
X-MICROSOFT-CDO-ALLDAYEVENT:FALSE
SUMMARY:The Rankin Brothers at the Palace Arts Center
DESCRIPTION:The Rankin Brothers Classic Music Revue features an incredible range of music\, with songs from top artists of yesterday and modern hits from legendary artists. The brothers\, Matt and Mark\, are joined by three fabulous female back-up singers\, "The Rankinettes" and a five piece band.\n\n	\n\n	For more information and tickets\, click here.
X-ALT-DESC;FMTTYPE=text/html:<p>\n	<span style="font-size:14px\;"><span style="font-family: arial\;">The Rankin Brothers Classic Music Revue features an incredible range of music\, with songs from top artists of yesterday and modern hits from legendary artists. The brothers\, Matt and Mark\, are joined by three fabulous female back-up singers\, &quot\;The Rankinettes&quot\; and a five piece band.<br />\n	<br />\n	For more information and tickets\, <strong><a href="https://www.grapevinetexasusa.com/Heritage/PalaceArtsCenter/LivePerformances/TheRankinBrothersLive/tabid/1222/Default.aspx" target="_blank">click here</a></strong>.</span></span></p>\n
LOCATION:Palace Arts Center 300 S. Main St. Grapevine\, TX 76051
UID:e.770.164053
SEQUENCE:3
DTSTAMP:20260421T081300Z
URL:https://business.grapevinechamber.org/events/details/the-rankin-brothers-at-the-palace-arts-center-08-08-2013-164053
END:VEVENT

END:VCALENDAR
