BEGIN:VCALENDAR
VERSION:2.0
PRODID:-//ChamberMaster//Event Calendar 2.0//EN
METHOD:PUBLISH
X-PUBLISHED-TTL:P3D
REFRESH-INTERVAL:P3D
CALSCALE:GREGORIAN
BEGIN:VEVENT
DTSTART:20160625T003000Z
DTEND:20160625T023000Z
X-MICROSOFT-CDO-ALLDAYEVENT:FALSE
SUMMARY:The Lion of Texas - A Conversation with Sam Houston
DESCRIPTION:A Two Act Play with keen attention to historical detail\, this engaging performance included commentary on Texas life and politics from Sam Houston's unique point of view.
X-ALT-DESC;FMTTYPE=text/html:A Two Act Play with keen attention to historical detail\, this engaging performance included commentary on Texas life and politics from Sam Houston&#39\;s unique point of view.
LOCATION:Palace Theatre
UID:e.770.174972
SEQUENCE:3
DTSTAMP:20260420T133033Z
URL:https://business.grapevinechamber.org/events/details/the-lion-of-texas-a-conversation-with-sam-houston-06-24-2016-174972
END:VEVENT

END:VCALENDAR
