BEGIN:VCALENDAR
VERSION:2.0
PRODID:-//ChamberMaster//Event Calendar 2.0//EN
METHOD:PUBLISH
X-PUBLISHED-TTL:P3D
REFRESH-INTERVAL:P3D
CALSCALE:GREGORIAN
BEGIN:VEVENT
DTSTART:20230520T160000Z
DTEND:20230520T190000Z
X-MICROSOFT-CDO-ALLDAYEVENT:FALSE
SUMMARY:The Fentanyl & Opioid Crisis - Start the Conversation
DESCRIPTION:The Fentanyl & Opioid Crisis - Start the Conversation\n\nSponsored by Love\, Cassidy and Greenhouse Treatment Center\n\n \n\nAs our communities\, and others around the country\, continue to face the fentanyl poisoning and opioid overdose crisis\, we are coming together to educate\, provide resources and continue the conversation\, to bring awareness\, break the stigma and combat this crisis together.\n\n \n\nJoin us for this community event\, Saturday\, May 20\, 2023\, ~ 11 AM to 2 PM.  At the Grapevine Rec Center.  We will be showing the 18-minute documentary "The Fentanyl Factor." 11:30 AM and 12 PM\, Q & A will be held after each showing. There will be resource tables\, continuous live hands-on Narcan training\, speakers and more. \n\n \n\nAll proceeds and donations will go to purchasing Narcan to hand out within our communities.  \n\n \n\nWe are looking forward to seeing everyone and Starting the Conversations that are so necessary\, for understanding\, educating and awareness of the Fentanyl and Opioid Crisis going on\, even in our own backyards.  See you soon!\n\n \n\n \n\n https://www.eventbrite.com/e/fentanyl-and-the-opioid-crisis-start-the-conversation-tickets-634038505237\n\n \n\n                      sseward@lovecassidy.org                         817-948-6483
X-ALT-DESC;FMTTYPE=text/html:<strong><span style="font-size:12.0pt">The Fentanyl &amp\; Opioid Crisis - Start the Conversation</span></strong><br />\nSponsored by Love\, Cassidy and Greenhouse Treatment Center<br />\n&nbsp\;<br />\n<span style="color:#050505">As our communities\, and others around the country\, continue to face the fentanyl poisoning and opioid overdose crisis\, we are coming together to educate\, provide resources and continue the conversation\, to bring awareness\, break the stigma and combat this crisis together.</span><br />\n&nbsp\;<br />\nJoin us for this community event\, Saturday\, May 20\, 2023\, ~ 11 AM to 2 PM.&nbsp\; At the Grapevine Rec Center.&nbsp\; We will be showing the 18-minute documentary&nbsp\;&ldquo\;The Fentanyl Factor.&rdquo\; 11:30 AM and 12 PM\, Q &amp\; A will be held after each showing. There will be resource tables\, continuous live hands-on Narcan training\, speakers and more.&nbsp\;<br />\n&nbsp\;<br />\nAll proceeds and donations will go to purchasing Narcan to hand out within our communities. &nbsp\;<br />\n&nbsp\;<br />\nWe are looking forward to seeing everyone and Starting the Conversations that are so necessary\, for understanding\, educating and awareness of the Fentanyl and Opioid Crisis going on\, even in our own backyards.&nbsp\; See you soon!<br />\n&nbsp\;<br />\n&nbsp\;<br />\n&nbsp\;<span style="font-family:times new roman\,serif"><a href="https://www.eventbrite.com/e/fentanyl-and-the-opioid-crisis-start-the-conversation-tickets-634038505237" target="_blank"><span style="color:#1155CC">https://www.eventbrite.com/e/fentanyl-and-the-opioid-crisis-start-the-conversation-tickets-634038505237</span></a></span><br />\n&nbsp\;<br />\n&nbsp\;&nbsp\;&nbsp\;&nbsp\;&nbsp\;&nbsp\;&nbsp\;&nbsp\;&nbsp\;&nbsp\;&nbsp\;&nbsp\;&nbsp\;&nbsp\;&nbsp\;&nbsp\;&nbsp\;&nbsp\;&nbsp\;&nbsp\;&nbsp\; <a href="mailto:sseward@lovecassidy.org"><span style="font-size:12.0pt">sseward@lovecassidy.org</span></a>&nbsp\;&nbsp\;&nbsp\;&nbsp\;&nbsp\;&nbsp\;&nbsp\;&nbsp\;&nbsp\;&nbsp\;&nbsp\;&nbsp\;&nbsp\;&nbsp\;&nbsp\;&nbsp\;&nbsp\;&nbsp\;&nbsp\;&nbsp\;&nbsp\;&nbsp\;&nbsp\;&nbsp\; 817-948-6483
LOCATION:The Grapevine Rec Center Stewart Hall 1175 Municipal Way Grapevine\, TX 76051
UID:e.770.197180
SEQUENCE:3
DTSTAMP:20260425T040101Z
URL:https://business.grapevinechamber.org/events/details/the-fentanyl-opioid-crisis-start-the-conversation-197180
END:VEVENT

END:VCALENDAR
