BEGIN:VCALENDAR
VERSION:2.0
PRODID:-//ChamberMaster//Event Calendar 2.0//EN
METHOD:PUBLISH
X-PUBLISHED-TTL:P3D
REFRESH-INTERVAL:P3D
CALSCALE:GREGORIAN
BEGIN:VEVENT
DTSTART:20120824T230000Z
DTEND:20120825T023000Z
X-MICROSOFT-CDO-ALLDAYEVENT:FALSE
SUMMARY:The Conexis Heart Throbs. Benefiting the American Heart Association
DESCRIPTION:The Heart Throbs are raising funds for the American Heart Association.  Save a HEART\, join us for this painting event.
X-ALT-DESC;FMTTYPE=text/html:<p>\n	<span style="font-size: 12px"><strong>The Heart Throbs are raising funds for the American Heart Association.&nbsp\; Save a HEART\, join us for this painting event.</strong></span></p>\n
LOCATION:441 E. Northwest Hwy Grapevine\, TX 76051
UID:e.770.162985
SEQUENCE:3
DTSTAMP:20260422T080431Z
URL:https://business.grapevinechamber.org/events/details/the-conexis-heart-throbs-benefiting-the-american-heart-association-08-24-2012-162985
END:VEVENT

END:VCALENDAR
