BEGIN:VCALENDAR
VERSION:2.0
PRODID:-//ChamberMaster//Event Calendar 2.0//EN
METHOD:PUBLISH
X-PUBLISHED-TTL:P3D
REFRESH-INTERVAL:P3D
CALSCALE:GREGORIAN
BEGIN:VEVENT
DTSTART:20130425T230000Z
DTEND:20130426T030000Z
X-MICROSOFT-CDO-ALLDAYEVENT:FALSE
SUMMARY:"Thanks for the Memories" Dinner & Auction
DESCRIPTION:Put on your boots and join us for a Lone Star Night at the 12th annual "Thanks for the Memories" Dinner & Auction benefiting the Alzheimer's Association. Join Honorary Co-chairs Tera & Richard Garvey as well as country music legend Gary Morris for this fun-filled evening at Ridglea Country Club on April 25\, 2013.
X-ALT-DESC;FMTTYPE=text/html:<p class="MsoNormal">\n	Put on your boots and join us for a Lone Star Night at the 12<sup>th</sup> annual &quot\;Thanks for the Memories&quot\; Dinner &amp\; Auction benefiting the Alzheimer&rsquo\;s Association. Join Honorary Co-chairs Tera &amp\; Richard Garvey as well as country music legend Gary Morris for this fun-filled evening at Ridglea Country Club on April 25\, 2013.</p>\n
LOCATION:Ridglea Country Club
UID:e.770.163377
SEQUENCE:3
DTSTAMP:20260421T161750Z
URL:https://business.grapevinechamber.org/events/details/thanks-for-the-memories-dinner-auction-04-25-2013-163377
END:VEVENT

END:VCALENDAR
