BEGIN:VCALENDAR
VERSION:2.0
PRODID:-//ChamberMaster//Event Calendar 2.0//EN
METHOD:PUBLISH
X-PUBLISHED-TTL:P3D
REFRESH-INTERVAL:P3D
CALSCALE:GREGORIAN
BEGIN:VEVENT
DTSTART;VALUE=DATE:20120817
DTEND;VALUE=DATE:20120825
TRANSP:TRANSPARENT
X-MICROSOFT-CDO-ALLDAYEVENT:TRUE
SUMMARY:Texas Tennis Open
DESCRIPTION:The world's best female athletes will compete August 17-  24\, 2012 at the Texas Tennis Open. The field will include many of the top tennis players as they prepare for the US Open the following week. World- class internatonal professional tennis has returned to the Dallas/Ft. Worth area!\n\n\n\nFor ticket information\, visit their website.
X-ALT-DESC;FMTTYPE=text/html:The world&#39\;s best female athletes will compete August 17-&shy\;&#8208\;24\, 2012 at the Texas Tennis Open. The field will include many of the top tennis players as they prepare for the US Open the following week. World-&shy\;class internatonal professional tennis has returned to the Dallas/Ft. Worth area!<br />\n<br />\nFor ticket information\, visit their website.&nbsp\;
LOCATION:Hilton DFW Lakes 1800 Hwy. 26 E. Grapevine\, TX 76051
UID:e.770.162908
SEQUENCE:3
DTSTAMP:20260422T075857Z
URL:https://business.grapevinechamber.org/events/details/texas-tennis-open-08-17-2012-162908
END:VEVENT

END:VCALENDAR
