BEGIN:VCALENDAR
VERSION:2.0
PRODID:-//ChamberMaster//Event Calendar 2.0//EN
METHOD:PUBLISH
X-PUBLISHED-TTL:P3D
REFRESH-INTERVAL:P3D
CALSCALE:GREGORIAN
BEGIN:VEVENT
DTSTART:20121108T003000Z
DTEND:20121108T020000Z
X-MICROSOFT-CDO-ALLDAYEVENT:FALSE
SUMMARY:TEX Rail Public Meeting
DESCRIPTION:Meeting will include:\n	\n		An open house for viewing display boards with environmental and station design concepts\n	\n		A presentation about the contents of the EA document\n	\n		An update on the overall status of TEX Rail
X-ALT-DESC;FMTTYPE=text/html:<ul>\n	<li>\n		Meeting will include:</li>\n	<li>\n		An open house for viewing display boards with environmental and station design concepts</li>\n	<li>\n		A presentation about the contents of the EA document</li>\n	<li>\n		An update on the overall status of TEX Rail</li>\n</ul>\n
LOCATION:Grapevine Community Activities Center 1175 Municipal Way Grapevine\, Texas 76051
UID:e.770.163076
SEQUENCE:3
DTSTAMP:20260420T105822Z
URL:https://business.grapevinechamber.org/events/details/tex-rail-public-meeting-11-07-2012-163076
END:VEVENT

END:VCALENDAR
