BEGIN:VCALENDAR
VERSION:2.0
PRODID:-//ChamberMaster//Event Calendar 2.0//EN
METHOD:PUBLISH
X-PUBLISHED-TTL:P3D
REFRESH-INTERVAL:P3D
CALSCALE:GREGORIAN
BEGIN:VEVENT
DTSTART:20121115T233000Z
DTEND:20121116T023000Z
X-MICROSOFT-CDO-ALLDAYEVENT:FALSE
SUMMARY:Taste of Northeast
DESCRIPTION:Mark your calendar and get your tickets! You're invited to join us at Taste of Northeast for food\, drink\, shopping at our vendors' booths\, and live entertainment. Don't miss the silent auction\, wine pull\, and $500 cash raffle. (You don't have to be present to win the raffle\, so get your raffle tickets by calling 817-283-3406.)\n\n\n\nThis lively event benefits The Arts Council Northeast\, and we know you'll have a great time!
X-ALT-DESC;FMTTYPE=text/html:Mark your calendar and get your tickets! You&#39\;re invited to join us at Taste of Northeast for food\, drink\, shopping at our vendors&#39\; booths\, and live entertainment. Don&#39\;t miss the silent auction\, wine pull\, and $500 cash raffle. (You don&#39\;t have to be present to win the raffle\, so get your raffle tickets by calling 817-283-3406.)<br />\n<br />\nThis lively event benefits The Arts Council Northeast\, and we know you&#39\;ll have a great time! 
LOCATION:Hurst Conference Center 1601 Campus Drive Hurst\, Texas
UID:e.770.163031
SEQUENCE:3
DTSTAMP:20260420T110026Z
URL:https://business.grapevinechamber.org/events/details/taste-of-northeast-11-15-2012-163031
END:VEVENT

END:VCALENDAR
