BEGIN:VCALENDAR
VERSION:2.0
PRODID:-//ChamberMaster//Event Calendar 2.0//EN
METHOD:PUBLISH
X-PUBLISHED-TTL:P3D
REFRESH-INTERVAL:P3D
CALSCALE:GREGORIAN
BEGIN:VEVENT
DTSTART;VALUE=DATE:20250130
DTEND;VALUE=DATE:20250203
TRANSP:TRANSPARENT
X-MICROSOFT-CDO-ALLDAYEVENT:TRUE
SUMMARY:"Sweeney Todd" at GHS Theater
DESCRIPTION:An infamous tale\, Sweeney Todd\, an unjustly exiled barber\, returns to nineteenth-century London\, seeking vengeance against the lecherous judge who framed him and ravaged his young wife. The road to revenge leads Todd to Mrs. Lovett\, a resourceful proprietress of a failing pie shop\, above which he opens a new barber practice. Mrs. Lovett's luck sharply shifts when Todd's thirst for vengeance inspires the integration of an ingredient into her meat pies that has the people of London lining up... and the carnage has only just begun!\n\n(Suitable for mature audiences)
X-ALT-DESC;FMTTYPE=text/html:<span style="background-color:rgb(255\, 251\, 250)\; color:rgb(0\, 0\, 0)\; font-family:dm sans\,sans-serif\; font-size:medium">An infamous tale\, Sweeney Todd\, an unjustly exiled barber\, returns to nineteenth-century London\, seeking vengeance against the lecherous judge who framed him and ravaged his young wife. The road to revenge leads Todd to Mrs. Lovett\, a resourceful proprietress of a failing pie shop\, above which he opens a new barber practice. Mrs. Lovett&#39\;s luck sharply shifts when Todd&#39\;s thirst for vengeance inspires the integration of an ingredient into her meat pies that has the people of London lining up... and the carnage has only just begun!<br />\n(Suitable for mature audiences)</span>
LOCATION:GHS Auditorium 3223 Mustang Dr. Grapevine TX 76051
UID:e.770.200602
SEQUENCE:3
DTSTAMP:20260423T134614Z
URL:https://business.grapevinechamber.org/events/details/sweeney-todd-at-ghs-theater-200602
END:VEVENT

END:VCALENDAR
