BEGIN:VCALENDAR
VERSION:2.0
PRODID:-//ChamberMaster//Event Calendar 2.0//EN
METHOD:PUBLISH
X-PUBLISHED-TTL:P3D
REFRESH-INTERVAL:P3D
CALSCALE:GREGORIAN
BEGIN:VEVENT
DTSTART:20121216T190000Z
DTEND:20121216T210000Z
X-MICROSOFT-CDO-ALLDAYEVENT:FALSE
SUMMARY:Sunday Watercolor Class
DESCRIPTION:Creative Watercolor Sunday afternoons\, designed for folks that want to relax and create\, no watercolor experience required. We will have a new lesson every other Sunday\, from 1:00pm until 3:00 pm\, $15.00 class fee\, bring your own supplies or use mine for an additional five dollar fee. Email Sharen by Friday Dec. 14th\, at sharen@gypsymusestudio.com\, to sign up. Minimum of four people to make the class.
X-ALT-DESC;FMTTYPE=text/html:Creative Watercolor Sunday afternoons\, designed for folks that want to relax and create\, no watercolor experience required. We will have a new lesson every other Sunday\, from 1:00pm until 3:00 pm\, $15.00 class fee\, bring your own supplies or use mine for an additional five dollar fee. Email Sharen by Friday Dec. 14th\, at sharen@gypsymusestudio.com\, to sign up. Minimum of four people to make the class. 
LOCATION:106 East Texas St.\, Grapevine\, TX\, 76051\, United States
UID:e.770.163227
SEQUENCE:3
DTSTAMP:20260423T150229Z
URL:https://business.grapevinechamber.org/events/details/sunday-watercolor-class-12-16-2012-163227
END:VEVENT

END:VCALENDAR
