BEGIN:VCALENDAR
VERSION:2.0
PRODID:-//ChamberMaster//Event Calendar 2.0//EN
METHOD:PUBLISH
X-PUBLISHED-TTL:P3D
REFRESH-INTERVAL:P3D
CALSCALE:GREGORIAN
BEGIN:VEVENT
DTSTART:20180812T140000Z
DTEND:20180812T170000Z
X-MICROSOFT-CDO-ALLDAYEVENT:FALSE
SUMMARY:SUMMER ETIQUETTE CAMP "Modern Day Manners for Kids" Ages 4 to 7
DESCRIPTION:Make learning manners fun!  It is never too early to learn these ever important skills.  The earlier you start learning to shake hands\, to look someone in the eyes and to introduce yourself and others\, the more likely it is that these skills become second nature.  Campers are amazed how much fun learning these skils can be when you get to color\, use puppets (Princess Barbie\, Boastful Betty\, Caring Kurt\, and Rodney Rude) and dress ups\, and lots of fun props to practice these real life skills.  In addition to the above topics\, campers will also learn conversation skills\, table manners\, wonder words\, telephone skills\, being a good host and guest\, and how to make new friends.  Includes:  class supplies\, snacks\, and an etiquette reference book.
X-ALT-DESC;FMTTYPE=text/html:<div>&nbsp\;</div>\n\n<div style="text-align: justify\;"><strong>Make learning manners fun! &nbsp\;It is never too early to learn these ever important skills. &nbsp\;The earlier you start learning to shake hands\, to look someone in the eyes and to introduce yourself and others\, the more likely it is that these skills become second nature. &nbsp\;Campers are amazed how much fun learning these skils can be when you get to color\, use puppets (Princess Barbie\, Boastful Betty\, Caring Kurt\, and Rodney Rude) and dress ups\, and lots of fun props to practice these real life skills. &nbsp\;In addition to the above topics\, campers will also learn conversation skills\, table manners\, wonder words\, telephone skills\, being a good host and guest\, and how to make new friends. &nbsp\;Includes: &nbsp\;class supplies\, snacks\, and an etiquette reference book.</strong></div>\n
LOCATION:Colleyville Elementary School 5911 Pleasant Run Road Colleyville\, TX 76034
UID:e.770.185172
SEQUENCE:3
DTSTAMP:20260420T095657Z
URL:https://business.grapevinechamber.org/events/details/summer-etiquette-camp-modern-day-manners-for-kids-ages-4-to-7-08-12-2018-185172
END:VEVENT

END:VCALENDAR
