BEGIN:VCALENDAR
VERSION:2.0
PRODID:-//ChamberMaster//Event Calendar 2.0//EN
METHOD:PUBLISH
X-PUBLISHED-TTL:P3D
REFRESH-INTERVAL:P3D
CALSCALE:GREGORIAN
BEGIN:VEVENT
DTSTART:20121003T000000Z
DTEND:20121003T010000Z
X-MICROSOFT-CDO-ALLDAYEVENT:FALSE
SUMMARY:Stay Fit and Avoid Sports Injuries at Any Age
DESCRIPTION:Attention Young Professional\, Over 40\, and Active\, Weekend Warriors-\n\n\n\nDr. Howard Harris and Dr. Ryan Modlinski of Texas Orthopedic Specialists\, P.A. will be presenting a FREE seminar at White's Chapel Church in Southlake\, TX on October 2nd at 7 p.m. \n\n\n\nPlease call: Ashley DeLo at 817-510-4074 if you would like to RSVP\n\n\n\nDiscussion Topics Include:\n\n-Common Overuse injuries in active adults\n\n-Injury prevention and treatment for knee and shoulder
X-ALT-DESC;FMTTYPE=text/html:Attention Young Professional\, Over 40\, and Active\, Weekend Warriors-<br />\n<br />\nDr. Howard Harris and Dr. Ryan Modlinski of Texas Orthopedic Specialists\, P.A. will be presenting a FREE seminar at White&#39\;s Chapel Church in Southlake\, TX on October 2nd at 7 p.m.&nbsp\;<br />\n<br />\nPlease call: Ashley DeLo at 817-510-4074 if you would like to RSVP<br />\n<br />\nDiscussion Topics Include:<br />\n-Common Overuse injuries in active adults<br />\n-Injury prevention and treatment for knee and shoulder
LOCATION:185 S White's Chapel Blvd. Southlake\, TX 76092 Rawlins Auditorium at White's Chapel Church
UID:e.770.163039
SEQUENCE:3
DTSTAMP:20260422T110731Z
URL:https://business.grapevinechamber.org/events/details/stay-fit-and-avoid-sports-injuries-at-any-age-10-02-2012-163039
END:VEVENT

END:VCALENDAR
