BEGIN:VCALENDAR
VERSION:2.0
PRODID:-//ChamberMaster//Event Calendar 2.0//EN
METHOD:PUBLISH
X-PUBLISHED-TTL:P3D
REFRESH-INTERVAL:P3D
CALSCALE:GREGORIAN
BEGIN:VEVENT
DTSTART:20121215T160000Z
DTEND:20121215T180000Z
X-MICROSOFT-CDO-ALLDAYEVENT:FALSE
SUMMARY:Stamp Carving December 15th
DESCRIPTION:Join me as we each create a unique stamp from a carvable material. Using carving tools\, we will learn the process of creating and carving a stamp of our very own design. Class fee is $25.00 this includes all supplies used in class to create your original stamp. If you have a group of two or more and would like to schedule this class at another time\, just email me.
X-ALT-DESC;FMTTYPE=text/html:Join me as we each create a unique stamp from a carvable material. Using carving tools\, we will learn the process of creating and carving a stamp of our very own design. Class fee is $25.00 this includes all supplies used in class to create your original stamp. If you have a group of two or more and would like to schedule this class at another time\, just email me. 
LOCATION:106 East Texas St.\, Grapevine\, TX\, 76051\, United States
UID:e.770.163226
SEQUENCE:3
DTSTAMP:20260423T150337Z
URL:https://business.grapevinechamber.org/events/details/stamp-carving-december-15th-12-15-2012-163226
END:VEVENT

END:VCALENDAR
