BEGIN:VCALENDAR
VERSION:2.0
PRODID:-//ChamberMaster//Event Calendar 2.0//EN
METHOD:PUBLISH
X-PUBLISHED-TTL:P3D
REFRESH-INTERVAL:P3D
CALSCALE:GREGORIAN
BEGIN:VEVENT
DTSTART:20260317T210000Z
DTEND:20260318T000000Z
X-MICROSOFT-CDO-ALLDAYEVENT:FALSE
SUMMARY:St. Patrick’s Day Happy Hour and Dinner
DESCRIPTION:You're invited to Solstice at Grapevine for our St. Patrick's Day Happy Hour and Dinner. Enjoy good company\, cheerful Irish-inspired d cor and a festive dinner as we celebrate the luck of the Irish together. RSVP today at SolsticeSeniorLivingGrapevine.com/signature-event. We look forward to welcoming you!
X-ALT-DESC;FMTTYPE=text/html:You&rsquo\;re invited to Solstice at Grapevine for our St. Patrick&rsquo\;s Day Happy Hour and Dinner. Enjoy good company\, cheerful Irish-inspired d&eacute\;cor and a festive dinner as we celebrate the luck of the Irish together. RSVP today at SolsticeSeniorLivingGrapevine.com/signature-event. We look forward to welcoming you!
LOCATION:Solstice at Grapevine 2300 Pool Road Grapevine\, TX 76051
UID:e.770.204493
SEQUENCE:3
DTSTAMP:20260422T140603Z
URL:https://business.grapevinechamber.org/events/details/st-patrick-s-day-happy-hour-and-dinner-204493
END:VEVENT

END:VCALENDAR
