BEGIN:VCALENDAR
VERSION:2.0
PRODID:-//ChamberMaster//Event Calendar 2.0//EN
METHOD:PUBLISH
X-PUBLISHED-TTL:P3D
REFRESH-INTERVAL:P3D
CALSCALE:GREGORIAN
BEGIN:VEVENT
DTSTART:20140313T220000Z
DTEND:20140314T010000Z
X-MICROSOFT-CDO-ALLDAYEVENT:FALSE
SUMMARY:Spring Furniture Fling - Open House - Statton Design Group
DESCRIPTION:Statton Design Group invites you to join our clients\, friends\, and fellow chamber members from- Southlake\, Colleyville\, Grapevine\, and NW Metroport for our open house\, Spring Furniture Fling.\n\n\n\nFood & Bar\n\n\n\nPrize Giveaways\n\n\n\nLive Music\n\n\n\nSpecial guest\, The Miracle League\, will auction collector items\, signed by The Texas Rangers.
X-ALT-DESC;FMTTYPE=text/html:<p><span style="font-size:14px\;"><span style="font-family: arial\;">Statton Design Group invites you to join our clients\, friends\, and fellow chamber members from- Southlake\, Colleyville\, Grapevine\, and NW Metroport for our open house\, Spring Furniture Fling.<br />\n<br />\n<strong>Food &amp\; Bar<br />\n<br />\nPrize Giveaways<br />\n<br />\nLive Music</strong><br />\n<br />\n<em>Special guest\, The Miracle League\, will auction collector items\, signed by The Texas Rangers.</em></span></span></p>\n
LOCATION:Paradise Cove 3020 Midway Road Southlake Texas\, 76092
UID:e.770.166766
SEQUENCE:3
DTSTAMP:20260420T182245Z
URL:https://business.grapevinechamber.org/events/details/spring-furniture-fling-open-house-statton-design-group-03-13-2014-166766
END:VEVENT

END:VCALENDAR
