BEGIN:VCALENDAR
VERSION:2.0
PRODID:-//ChamberMaster//Event Calendar 2.0//EN
METHOD:PUBLISH
X-PUBLISHED-TTL:P3D
REFRESH-INTERVAL:P3D
CALSCALE:GREGORIAN
BEGIN:VEVENT
DTSTART:20230501T130000Z
DTEND:20230501T170000Z
X-MICROSOFT-CDO-ALLDAYEVENT:FALSE
SUMMARY:SOS 4th Annual Golf Tournament
DESCRIPTION:Golf\, Food\, Fun and your day of Golf goes to support Seniors in our community!\n\nGet ready for a day filled with friends\, fun\, food\, and prizes.\n\nBecome a sponsor or register as a team or individual for a great round of golf at Fossil Creek
X-ALT-DESC;FMTTYPE=text/html:<h2>Golf\, Food\, Fun and your day of Golf goes to support Seniors in our community!<br />\nGet ready for a day filled with friends\, fun\, food\, and prizes.<br />\nBecome a sponsor or register as a team or individual for a great round of golf at Fossil Creek</h2>\n
LOCATION:Fossil Creek Golf Course 3401 Clubgate Dr Fort Worth\, TX 76137
UID:e.770.196906
SEQUENCE:3
DTSTAMP:20260425T034708Z
URL:https://business.grapevinechamber.org/events/details/sos-4th-annual-golf-tournament-196906
END:VEVENT

END:VCALENDAR
