BEGIN:VCALENDAR
VERSION:2.0
PRODID:-//ChamberMaster//Event Calendar 2.0//EN
METHOD:PUBLISH
X-PUBLISHED-TTL:P3D
REFRESH-INTERVAL:P3D
CALSCALE:GREGORIAN
BEGIN:VEVENT
DTSTART:20260427T150000Z
DTEND:20260427T170000Z
X-MICROSOFT-CDO-ALLDAYEVENT:FALSE
SUMMARY:Songs & Smiles Singalong and SINGO
DESCRIPTION:FREE Event For Seniors\n\nand anyone else who enjoys music from the 1940s\, 50s\, 60s\, and 70s.\n\n\n\nRegistration required at songsandsmiles.com/grapevine\n\n\n\nThis is a dementia-friendly event.
X-ALT-DESC;FMTTYPE=text/html:<p><strong>FREE Event For Seniors</strong><br />\nand anyone else who enjoys music from the 1940s\, 50s\, 60s\, and 70s.<br />\n<br />\nRegistration required at songsandsmiles.com/grapevine<br />\n<br />\nThis is a dementia-friendly event.</p>\n
LOCATION:Chicken N Pickle - Grapevine 4600 Merlot Avenue Grapevine\, TX 76051
UID:e.770.204505
SEQUENCE:3
DTSTAMP:20260421T161750Z
URL:https://business.grapevinechamber.org/events/details/songs-smiles-singalong-and-singo-204505
END:VEVENT

END:VCALENDAR
