BEGIN:VCALENDAR
VERSION:2.0
PRODID:-//ChamberMaster//Event Calendar 2.0//EN
METHOD:PUBLISH
X-PUBLISHED-TTL:P3D
REFRESH-INTERVAL:P3D
CALSCALE:GREGORIAN
BEGIN:VEVENT
DTSTART:20230823T000000Z
DTEND:20230823T013000Z
X-MICROSOFT-CDO-ALLDAYEVENT:FALSE
SUMMARY:Singo Bingo
DESCRIPTION:Listen to your favorite music\, match the songs to your titles on your music bingo cards\, and win prizes!\n\n \nAUGUST 8 - 90s Pop\n\nAUGUST 15 - At the Movies\n\nAUGUST 22 - Boogie Nights\n\nAUGUST 29 - Love is a Battlefield\n\nSEPTEMBER 5 - 80s Hair Bands\n\nSEPTEMBER 12 - Drankin' Songs\n\nSEPTEMBER 19 - Sing-a-long\n\nSEPTEMBER 26 - Girls\, Girls\, Girls
X-ALT-DESC;FMTTYPE=text/html:<span style="color:#050505"><span style="font-family:segoe ui historic\,sans-serif"><span style="font-size:11.5pt">Listen to your favorite music\, match the songs to your titles on your music bingo cards\, and win prizes!</span></span></span><br />\n&nbsp\;\n<p>AUGUST 8 - 90s Pop</p>\n\n<p>AUGUST 15 - At the Movies</p>\n\n<p>AUGUST 22 - Boogie Nights</p>\n\n<p>AUGUST 29 - Love is a Battlefield</p>\n\n<p>SEPTEMBER 5 - 80s Hair Bands</p>\n\n<p>SEPTEMBER 12 - Drankin&#39\; Songs</p>\n\n<p>SEPTEMBER 19 - Sing-a-long</p>\n\n<p>SEPTEMBER 26 - Girls\, Girls\, Girls</p>\n<br />\n&nbsp\;
LOCATION:Buzzed Bull Creamery\, 419 S. Main Street\, Grapevine
UID:e.770.197344
SEQUENCE:3
DTSTAMP:20260425T000051Z
URL:https://business.grapevinechamber.org/events/details/singo-bingo-08-22-2023-197344
END:VEVENT

END:VCALENDAR
