BEGIN:VCALENDAR
VERSION:2.0
PRODID:-//ChamberMaster//Event Calendar 2.0//EN
METHOD:PUBLISH
X-PUBLISHED-TTL:P3D
REFRESH-INTERVAL:P3D
CALSCALE:GREGORIAN
BEGIN:VEVENT
DTSTART:20230628T000000Z
DTEND:20230628T013000Z
X-MICROSOFT-CDO-ALLDAYEVENT:FALSE
SUMMARY:Singo Bingo
DESCRIPTION:Listen to your favorite music\, match the songs to the titles on your bingo card\, and win prizes!
X-ALT-DESC;FMTTYPE=text/html:<p>Listen to your favorite music\, match the songs to the titles on your bingo card\, and win prizes!</p>\n
LOCATION:Buzzed Bull Creamery\, 419 S. Main Street\, Grapevine\, TX 76051
UID:e.770.197218
SEQUENCE:3
DTSTAMP:20260425T020444Z
URL:https://business.grapevinechamber.org/events/details/singo-bingo-06-27-2023-197218
END:VEVENT

END:VCALENDAR
