BEGIN:VCALENDAR
VERSION:2.0
PRODID:-//ChamberMaster//Event Calendar 2.0//EN
METHOD:PUBLISH
X-PUBLISHED-TTL:P3D
REFRESH-INTERVAL:P3D
CALSCALE:GREGORIAN
BEGIN:VEVENT
DTSTART:20250117T003000Z
DTEND:20250117T020000Z
X-MICROSOFT-CDO-ALLDAYEVENT:FALSE
SUMMARY:Silvas Law: WINE\, WILLS\, & TRUSTS - Probate-Proof Your Future:
DESCRIPTION:NEW YEARS RESOLUTION TO DO:\n\nWine\, Wills\, & Trusts Event! \n\nJoin us on Thursday\, January 16th at 6:30pm\n\n@Landon Winery at the Sound - Coppell\n\n\n\nThis is a FREE an informative casual evening with Tammy Silvas!\n\n \n\nUnmask the Mysteries of Probate Avoidance\n\nLearn about the important benefits of estate planning:\n\n\n	Protect your assets and loved ones\n	Ensure your wishes are carried out\n	Minimize taxes and legal fees\n	Avoid family conflicts\n\n \n\nWhat you'll discover:\n\n\n	 Wills: Secure your legacy \n	 Trusts: Safeguard your wealth \n	 Probate: Avoid\, Save time and money \n	 Protect Assets: Shield your hard-earned assets \n	 Smooth asset transition: Simplify the process for your heirs\n\n\n Don't miss this chance to sip some wine while securing your future!\n\nRSVP now and take the first step towards peace of mind. \n\n \n\nRegister Now:  https://www.silvaslaw.com/250116wwtc\n\nSilvas Law\n\n1111 S Main Street\n\nGrapevine\, Texas 76051\n\n817-264-7447
X-ALT-DESC;FMTTYPE=text/html:<p><u><span style="color:#0000CD"><span style="font-family:arial\,helvetica\,sans-serif\; font-size:14px"><span style="font-size:16px"><strong>NEW YEARS RESOLUTION TO DO:</strong></span></span></span></u><br />\n<u><span style="color:#0000CD"><span style="font-family:arial\,helvetica\,sans-serif\; font-size:14px"><span style="font-size:16px"><strong>Wine\, Wills\, &amp\; Trusts Event!&nbsp\;</strong></span></span></span></u></p>\n\n<p><span style="color:rgb(66\, 66\, 66)\; font-family:arial\,helvetica\,sans-serif\; font-size:14px">Join us on Thursday\, January 16th at 6:30pm<br />\n@Landon Winery at the Sound - Coppell<br />\n<br />\nThis is a FREE an informative casual evening with Tammy Silvas!<br />\n&nbsp\;<br />\n<strong><span style="color:rgb(0\, 0\, 0)\; font-family:aptos\,sans-serif">Unmask the Mysteries of Probate Avoidance</span></strong><br />\nLearn about the important benefits of estate planning:</span></p>\n\n<ol>\n	<li><span style="font-size:14px">Protect your assets and loved ones</span></li>\n	<li><span style="font-size:14px">Ensure your wishes are carried out</span></li>\n	<li><span style="font-size:14px">Minimize taxes and legal fees</span></li>\n	<li><span style="font-size:14px">Avoid family conflicts</span></li>\n</ol>\n<span style="color:rgb(66\, 66\, 66)\; font-family:arial\,helvetica\,sans-serif\; font-size:14px">&nbsp\;<br />\nWhat you&#39\;ll discover:</span>\n\n<ul>\n	<li><span style="font-size:14px">&nbsp\;Wills: Secure your legacy&nbsp\;</span></li>\n	<li><span style="font-size:14px">&nbsp\;Trusts: Safeguard your wealth&nbsp\;</span></li>\n	<li><span style="font-size:14px">&nbsp\;Probate: Avoid\, Save time and money&nbsp\;</span></li>\n	<li><span style="font-size:14px">&nbsp\;Protect Assets: Shield your hard-earned assets&nbsp\;</span></li>\n	<li><span style="font-size:14px">&nbsp\;Smooth asset transition: Simplify the process for your heirs</span></li>\n</ul>\n\n<p><span style="font-size:14px">&nbsp\;Don&#39\;t miss this chance to sip some wine while securing your future!<br />\nRSVP now and take the first step towards peace of mind.&nbsp\;</span><br />\n&nbsp\;</p>\n\n<p><span style="font-size:18px">Register Now:&nbsp\;&nbsp\;<a href="https://www.silvaslaw.com/250116wwtc"><u>https://www.silvaslaw.com/250116wwtc</u></a></span><br />\n<span style="font-size:14px">Silvas Law<br />\n1111 S Main Street<br />\nGrapevine\, Texas 76051<br />\n817-264-7447</span></p>\n
LOCATION:Landon Winery at the Sound Coppell 3121 Olympus Boulevard #130 Coppell\, Texas 75019
UID:e.770.200562
SEQUENCE:3
DTSTAMP:20260423T134534Z
URL:https://business.grapevinechamber.org/events/details/silvas-law-wine-wills-trusts-probate-proof-your-future-200562
END:VEVENT

END:VCALENDAR
