BEGIN:VCALENDAR
VERSION:2.0
PRODID:-//ChamberMaster//Event Calendar 2.0//EN
METHOD:PUBLISH
X-PUBLISHED-TTL:P3D
REFRESH-INTERVAL:P3D
CALSCALE:GREGORIAN
BEGIN:VEVENT
DTSTART:20230508T050000Z
DTEND:20230515T165500Z
X-MICROSOFT-CDO-ALLDAYEVENT:FALSE
SUMMARY:Silent Auction
DESCRIPTION:Our Silent Auction is part of the 3rd Annual ELITE Fitness & Nutrition Golf Tournament\n\n\n\nDonate and Item: Donate an item\, service etc. to our silent auction. The auction will take place online the week leading up to the tournament May 8th-15th.\n\nhttps://yourcharityauction.com/donation.php?a=3094&ca=4173c3\n\n \n\nRegister to Bid: Click on the link below to register to bid during the online silent auction. You must be registered to bid. Bidding does not start until May 8th.\n\nhttps://yourcharityauction.com/register.php?a=3094&ca=4173c3
X-ALT-DESC;FMTTYPE=text/html:<div style="text-align:left"><strong>Our Silent Auction is part of the 3rd Annual ELITE Fitness &amp\; Nutrition Golf Tournament<br />\n<br />\nDonate and Item: </strong>Donate an item\, service etc. to our silent auction. The auction will take place online the week leading up to the tournament May 8th-15th.</div>\n\n<div style="text-align:left"><a href="https://yourcharityauction.com/donation.php?a=3094&amp\;ca=4173c3">https://yourcharityauction.com/donation.php?a=3094&amp\;ca=4173c3</a><br />\n&nbsp\;</div>\n\n<div style="text-align:left"><strong>Register to Bid: </strong>Click on the link below to register to bid during the online silent auction. You must be registered to bid. Bidding does not start until May 8th.<br />\n<strong><a href="https://yourcharityauction.com/register.php?a=3094&amp\;ca=4173c3">https://yourcharityauction.com/register.php?a=3094&amp\;ca=4173c3</a></strong><br />\n&nbsp\;</div>\n
LOCATION:Online
UID:e.770.196939
SEQUENCE:3
DTSTAMP:20260425T034250Z
URL:https://business.grapevinechamber.org/events/details/silent-auction-196939
END:VEVENT

END:VCALENDAR
