BEGIN:VCALENDAR
VERSION:2.0
PRODID:-//ChamberMaster//Event Calendar 2.0//EN
METHOD:PUBLISH
X-PUBLISHED-TTL:P3D
REFRESH-INTERVAL:P3D
CALSCALE:GREGORIAN
BEGIN:VEVENT
DTSTART:20130413T140000Z
DTEND:20130413T170000Z
X-MICROSOFT-CDO-ALLDAYEVENT:FALSE
SUMMARY:Shred Cancer! Relay for Life Shredding Event
DESCRIPTION:Make a donation to the American Cancer Society and Come shred any documents you don't need anymore!  Luminaries will also be on sale to honor cancer survivors or those who have passed.
X-ALT-DESC;FMTTYPE=text/html:Make a donation to the American Cancer Society and Come shred any documents you don&#39\;t need anymore!&nbsp\; Luminaries will also be on sale to honor cancer survivors or those who have passed.&nbsp\; 
LOCATION:RE/MAX on Main\, 1230 S Main\, Grapevine\, Texas
UID:e.770.163507
SEQUENCE:3
DTSTAMP:20260421T161832Z
URL:https://business.grapevinechamber.org/events/details/shred-cancer-relay-for-life-shredding-event-04-13-2013-163507
END:VEVENT

END:VCALENDAR
