BEGIN:VCALENDAR
VERSION:2.0
PRODID:-//ChamberMaster//Event Calendar 2.0//EN
METHOD:PUBLISH
X-PUBLISHED-TTL:P3D
REFRESH-INTERVAL:P3D
CALSCALE:GREGORIAN
BEGIN:VEVENT
DTSTART:20221217T200000Z
DTEND:20221217T210000Z
X-MICROSOFT-CDO-ALLDAYEVENT:FALSE
SUMMARY:Sam Pack's Five Star Subaru of Grapevine hosts AMBUCS Trykes for Tykes Presentation Celebration
DESCRIPTION:Five Star Subaru join forces with our Subaru Love Promise Community Partners- Grapevine AMBUCS for a TRYKES FOR TYKES Presentation Celebration Event. \n\nFive Star Subaru of Grapevine is hosting this special event which will take place at the retailers' location to give the gift of mobility and independence to kids in need this holiday season. Swing by to show your support! Rumor has it that Grapevine's very own Dark Knight (BATMAN) will be making an appearance. You don't want to miss it!
X-ALT-DESC;FMTTYPE=text/html:<strong><em><span style="font-size:20.0pt"><span style="color:#0000FF">Five Star Subaru</span> join forces with our Subaru Love Promise Community Partners- <span style="color:#FF0000">Grapevine AMBUCS</span> f</span></em><span style="font-size:20.0pt">or a <span style="color:red">TRYKES FOR TYKES </span>Presentation Celebration Event.&nbsp\;<br />\n<span style="color:#0000FF">Five Star Subaru of Grapevine</span> <span style="color:#FF0000">is</span></span><span style="color:red"><span style="font-size:20.0pt">&nbsp\;hosting this special event which will take place at the retailers&#39\; location to give the gift of mobility and independence to kids in need this holiday season. </span></span><span style="color:#0000FF"><span style="font-size:20.0pt">Swing by to show your support! Rumor has it that Grapevine&#39\;s very own Dark Knight (BATMAN) will be making an appearance. You don&#39\;t want to miss it!</span></span></strong><br />\n&nbsp\;
LOCATION:WHERE: SAM PACK'S FIVE STAR SUBARU OF GRAPEVINE 2651 William D Tate Ave Grapevine\, TX 76051
UID:e.770.196094
SEQUENCE:3
DTSTAMP:20260425T142111Z
URL:https://business.grapevinechamber.org/events/details/sam-pack-s-five-star-subaru-of-grapevine-hosts-ambucs-trykes-for-tykes-presentation-celebration-196094
END:VEVENT

END:VCALENDAR
